BEGIN:VCALENDAR
PRODID:NingEventWidget-v1
VERSION:2.0
METHOD:PUBLISH
BEGIN:VEVENT
UID:2508951:Event:207827
DTSTAMP:20260420T120738Z
SUMMARY:Al Parrish (Tanglefoot veteran) folk music concert
DESCRIPTION:Al Parrish, veteran of the Canadian folk group Tanglefoot 
 and many other bands, is performing 7:00 pm on Feb 16, 2013 at the Me
 yera Oberndorf Virginia Beach Cental Library.  Details at http://www.
 tffm.org/concerts/2013-02-16/Al_Parrish.html \n\nFor more information
  visit https://vbnightlife.com/events/al-parrish-tanglefoot-veteran-fo
 lk-music-concert
DTSTART:20130217T000000Z
DTEND:20130217T024500Z
CATEGORIES:folk, music, celtic, concert
LOCATION:Meyera Oberndorf Virginia Beach Central Library
WEBSITE:http://www.tffm.org/concerts/2013-02-16/Al_Parrish.html
URL:http://www.tffm.org/concerts/2013-02-16/Al_Parrish.html
CONTACT:
ORGANIZER:Tidewater Friends of Folk Music www.tffm.org
ATTACH;FMTTYPE="image/jpeg":http://storage.ning.com/topology/rest/1.0/
 file/get/1664184664?profile=original
ATTENDEE;ROLE=REQ-PARTICIPANT;PARTSTAT=ACCEPTED;RSVP=TRUE;CN="Rolan St
 ears":https://vbnightlife.com/profile/RolanStears
ATTENDEE;ROLE=REQ-PARTICIPANT;PARTSTAT=ACCEPTED;RSVP=TRUE;CN="Kenneth 
 Brock":https://vbnightlife.com/profile/KennethBrock
END:VEVENT
END:VCALENDAR
