BEGIN:VCALENDAR
PRODID:NingEventWidget-v1
VERSION:2.0
METHOD:PUBLISH
BEGIN:VEVENT
UID:2508951:Event:7413
DTSTAMP:20260425T172932Z
SUMMARY:AL GOODWIN @ THE FUNNY BONE
DESCRIPTION:Al Goodwin\nWebsite: http://www.myspace.com/algoodwin\n\nI
  think that life is like a video game - Ms. Pac Man to be specific. Yo
 u don't get to the Banana level the first time you play. You have to p
 lay a lot to get that good. When your game is over and your last Ms. P
 ac Man character is gone, you are not hurt. You are not bleeding. You 
 do not have a concussion. You can play again and again and get better 
 and better. Well, taking one microcosmic step backwards - when your ph
 ysical body no longer works and your game is over, you will realize th
 at your soul was just playing a game and that the object of the game w
 as to enjoy the game and make others happy through love. That's how yo
 u get high score. Jesus, Mother Theresa, Buddha, Martin Luther King an
 d Ghandi all got high score. They are famous for showing non-judgement
 al/unconditional love and tolerance to everyone they met. Everytime th
 at I can make someone laugh in this game, I believe that I am getting 
 extra points. I know that when I die and go into the light that I will
  see Jesus, Mother Theresa, Buddha, Martin Luther King and Ghandi all 
 standing up there saying, \"Here's some more quarters.\"\n\nShow Times
 \nWednesday, March 25, 2009\n8:00 PM\n\nFor more information visit htt
 ps://vbnightlife.com/events/al-goodwin-the-funny-bone
DTSTART:20090326T000000Z
DTEND:20090326T030000Z
CATEGORIES:comedy
LOCATION:The Virginia Beach Funny Bone
WEBSITE:
URL:
CONTACT:
ORGANIZER:The Virginia Beach Funny Bone
ATTACH;FMTTYPE="image/jpeg":http://storage.ning.com/topology/rest/1.0/
 file/get/1664068950?profile=original
ATTENDEE;ROLE=REQ-PARTICIPANT;PARTSTAT=ACCEPTED;RSVP=TRUE;CN="Nicole M
 axino":https://vbnightlife.com/profile/NicoleMaxino
END:VEVENT
END:VCALENDAR
