BEGIN:VCALENDAR
PRODID:NingEventWidget-v1
VERSION:2.0
METHOD:PUBLISH
BEGIN:VEVENT
UID:2508951:Event:322963
DTSTAMP:20260423T110538Z
SUMMARY:ADVENTURE PARK HOLIDAY SCHEDULE
DESCRIPTION:\n\n\nBelow is information on The Adventure Park's upcomin
 g Glow in the Park events and our holiday hours:\nLights, climbing, ho
 liday fun! Join The Adventure Park at Virginia Aquarium for Glow in th
 e Park nights: December 18 & 19 and January 1 & 2, 4pm-9pm. Climb and 
 zip through our lighted trails while enjoying music by local DJs! Tick
 ets available online: climbvb.com/tickets.\n \nDecember Hours:\nDec.
  18: 12 PM - 9 PM - GLOW IN THE PARK 4 TO 7\nDec. 19: 9 AM - 9 PM G
 LOW IN THE PARK 4 TO 7\nDec. 20 - 23: 9 AM - 7 PM\nDec. 24: 9 AM - 5
  PM\nDec. 25: CLOSED\nDec. 26 - 30: 9 AM - 7 PM\nDec. 31: 9 AM - 5 P
 M\nJan. 1 - 2: 9 AM - 9 PM  GLOW IN THE PARK 4 TO 7PM\nJan. 3: 9 A
 M - 5 PM\n \nPlease call our office with any questions! (757) 385-494
 7.\n \nSee you in the trees!\n \n\n\n\n\n\n\n\n\n\n\n\n\n\nTickets o
 nline here: climbvb.com/tickets\n\nPlease call our office with any qu
 estions! (757) 385-4947.\n \n\n\n\n\n\n\nFor more information visit h
 ttps://vbnightlife.com/events/adventure-park-holiday-schedule
DTSTART:20160101T210000Z
DTEND:20160104T000000Z
CATEGORIES:"virginia beach", "virginia beach nightlife", "virginia bea
 ch things to do", "virginia beach entertainment"
LOCATION:ADVENTURE PARK AT THE VIRGINIA AQUARIUM
WEBSITE:
URL:
CONTACT:757) 385-4947
ORGANIZER:VBnightlife.com / vbdaylife
ATTACH;FMTTYPE="image/jpeg":http://storage.ning.com/topology/rest/1.0/
 file/get/1664297723?profile=original
ATTENDEE;ROLE=REQ-PARTICIPANT;PARTSTAT=ACCEPTED;RSVP=TRUE;CN="VBnightl
 ife.com":https://vbnightlife.com/profile/admin
END:VEVENT
END:VCALENDAR
