BEGIN:VCALENDAR
PRODID:NingEventWidget-v1
VERSION:2.0
METHOD:PUBLISH
BEGIN:VEVENT
UID:2508951:Event:334936
DTSTAMP:20260419T133827Z
SUMMARY:757 Rock Ball & Benefit Gala at the Granby Theater April 24th
DESCRIPTION:\nThe 1st Annual Musicians 757 Rock Ball & Benefit Gala is
  a excitingÂ WOW evening created to celebrate the entire 757 local mus
 ic community.\nWhen: Sunday April 24th 5pm arrival; Show begins prompt
 ly at 6pm and ends at 11pm\nWhere: The HistoricÂ Granby TheaterÂ - the
  perfect backdrop for aÂ night full of glitz, glamour.\nGranby Theater
  - a glamorous 100 year old theater located in the heart of downtown N
 orfolk, VA\nWhat: Over 12 local bands, musicians & artists\nOnly 50 di
 scount tickets available for regular admission; 25 ViP available\nNote
 : Tickets will increase toÂ $46.50Â April 1st-23rd andÂ $56.50 day of 
 the event + $20 for VIP tickets\nAdmission includes aÂ Locals Onlyâ„¢ 
 VB VIP Discount CardÂ ($25 value)\nVIP Admission includes reserved sea
 ting in the Reserved SeatingÂ Area (Booth & Tall Stools); no specific 
 seat assigned.\n\nAll tickets include:Â \n\nA \"Rock The Red Carpet\" 
 Arrival where you can show offÂ your special version of award theme fa
 shions.\nRed Carpet Arrival features interview host,Â paparazzi, Step 
 & Repeat photo ops and Fashion Police.\nExciting social and entertainm
 ent program planned to showcase theÂ rich history and current talent f
 rom the 757 local area,\nDance to diverse music style performances byÂ
  Over 12 local bands, musicians & performance artists\nStrictly Bizzne
 ss\nAnthony Rosano & The Conqueroos\nKrunch\nSeven Ten Oil\nTypeCastÂ 
 \nDave Johnson\nMimsey MacCormackÂ \nLauren Taylor\nJoint Therapy\nAar
 on FulcherÂ \nBrian Grilli\nMimsey Mack\nBobby \"Blackhat\" & Tom Eule
 r\nEver AfterÂ \nCeleste Kellogg\nFunhouseÂ \n\n\n\n\nPURCHASE YOUR DI
 SCOUNT TICKETS HERE\n\nFor more information visit https://vbnightlife.
 com/events/admission-to-the-757-rock-ball-benefit-gala-at-the-granby-t
 heater
DTSTART:20160424T210000Z
DTEND:20160425T030000Z
CATEGORIES:"fundraiser in virginia beach", "virginia beach events", "t
 hings to do in virginia beach", "events in norfolk"
LOCATION:Granby Theater
WEBSITE:
URL:
CONTACT:
ORGANIZER;CN="VBnightlife.com":https://vbnightlife.com/profile/admin
ATTACH;FMTTYPE="image/jpeg":http://storage.ning.com/topology/rest/1.0/
 file/get/1664305171?profile=original
ATTENDEE;ROLE=REQ-PARTICIPANT;PARTSTAT=ACCEPTED;RSVP=TRUE;CN="VBnightl
 ife.com":https://vbnightlife.com/profile/admin
END:VEVENT
END:VCALENDAR
