BEGIN:VCALENDAR
PRODID:NingEventWidget-v1
VERSION:2.0
METHOD:PUBLISH
BEGIN:VEVENT
UID:2508951:Event:198590
DTSTAMP:20260423T120747Z
SUMMARY:Admirals Victory Celebration and St. Baldrick’s Beard Shavin
 g
DESCRIPTION:The victory celebration for the 2012 Calder Cup Champion N
 orfolk Admirals will take place on Wednesday, June 13, from 4:30 – 7
 :00 p.m.\n \nThe festivities will begin at 4:30 p.m. with a parade on
  Granby Street. The parade will begin on Plume Street and conclude on 
 the Norfolk Scope Plaza at 5:00 p.m. The Honorable Mayor Paul D, Fraim
  will preside over the festivities, which will include entertainment, 
 food and beverage available for purchase, and the chance to purchase A
 dmirals Calder Cup Champion gear.\n \nIn addition to the celebration,
  the Admirals have teamed up with the St. Baldrick’s Foundation to s
 have the Admirals’ playoff beards to benefit pediatric cancer resear
 ch. Admirals players and staff such as Eric Neilson, Scott Jackson, Mi
 ke Angelidis, Ken Young and Joe Gregory will have their beards shaven 
 off on the Scope Plaza with donations benefitting the St. Baldrick’s
  Foundation. Fans may donate at the parade or by visiting shavetheadmi
 rals.com.\n \nIn the event of inclement weather, the celebration will
  be moved inside Norfolk Scope Arena.\n \nThe Norfolk Admirals have w
 on the 2012 Calder Cup Championship after defeating the Toronto Marlie
 s in the best-of-seven Calder Cup Finals, four games to zero. Norfolk 
 earned its first ever American Hockey League championship last Saturda
 y afternoon at the Ricoh Coliseum in Toronto, Ontario, Canada, after a
  6-1 victory over the Marlies in Game 4.\n\nFor more information visit
  https://vbnightlife.com/events/admirals-victory-celebration-and-st-ba
 ldrick-s-beard-shaving
DTSTART:20120613T203000Z
DTEND:20120613T230000Z
CATEGORIES:"norfolk events", "norfolk professional sports", "norfolk a
 dmirals", "norfolk hockey", "2012 calder cup"
LOCATION:Downtown Norfolk
WEBSITE:http://www.norfolkadmirals.com/splash.php
URL:http://www.norfolkadmirals.com/splash.php
CONTACT:
ORGANIZER;CN="VBnightlife.com":https://vbnightlife.com/profile/admin
ATTACH;FMTTYPE="image/jpeg":http://storage.ning.com/topology/rest/1.0/
 file/get/1664170677?profile=original
ATTENDEE;ROLE=REQ-PARTICIPANT;PARTSTAT=ACCEPTED;RSVP=TRUE;CN="Rolan St
 ears":https://vbnightlife.com/profile/RolanStears
ATTENDEE;ROLE=REQ-PARTICIPANT;PARTSTAT=ACCEPTED;RSVP=TRUE;CN="VBnightl
 ife.com":https://vbnightlife.com/profile/admin
END:VEVENT
END:VCALENDAR
