BEGIN:VCALENDAR
PRODID:NingEventWidget-v1
VERSION:2.0
METHOD:PUBLISH
BEGIN:VEVENT
UID:2508951:Event:5802
DTSTAMP:20260425T225530Z
SUMMARY:ACOUSTIHOLICS @ Otani
DESCRIPTION:The smell of fresh seafood and steaks fill the air and you
  hear the gentle tapping of spatulas and knives as our team of expert 
 Teppanyaki chefs cook and entertain at the Hibachi grills. As you you 
 are seated at the Hibachi grill a waitress quickly starts to serve you
 . After your order is taken your personal chef prepares a feast of chi
 cken, steak or seafood as he entertains you with his amazing knife and
  spatula skills with a mix of comedy.\n\nCasual Attire.\n\nSushi Bar &
  20 Hibachi Tables.\n\nFull Service Bar.\n\nCatering for Parties.\n\nV
 IP Rooms for Special Events.\n\nChildren's Menu.\n\nGift Certificates.
 \n\nPlenty of Parking.\n\nTour Buses Welcome.\n\nHonor All major Credi
 t Cards.\n\nShuttle Service will pick you up from your hotel.\n\nFor m
 ore information visit https://vbnightlife.com/events/acoustiholics-ota
 ni
DTSTART:20090213T003000Z
DTEND:20090213T043000Z
CATEGORIES:live, music
LOCATION:Otani Grill
WEBSITE:
URL:
CONTACT:
ORGANIZER:Otani
ATTACH;FMTTYPE="image/jpeg":http://storage.ning.com/topology/rest/1.0/
 file/get/1664068874?profile=original
ATTENDEE;ROLE=REQ-PARTICIPANT;PARTSTAT=ACCEPTED;RSVP=TRUE;CN="Nicole M
 axino":https://vbnightlife.com/profile/NicoleMaxino
END:VEVENT
END:VCALENDAR
