BEGIN:VCALENDAR
PRODID:NingEventWidget-v1
VERSION:2.0
METHOD:PUBLISH
BEGIN:VEVENT
UID:2508951:Event:10103
DTSTAMP:20260425T203543Z
SUMMARY:ACOUSTIC AND VOCAL MUSICIANS EXPO - DIANE BROUILLET HOSTING EV
 ERY TUESDAY
DESCRIPTION:9PM\n\nFor more information visit https://vbnightlife.com/
 events/acoustic-and-vocal-musicians
DTSTART:20090512T040000Z
DTEND:20090513T035900Z
CATEGORIES:acoustic
LOCATION:Bayside Inn
WEBSITE:
URL:
CONTACT:
ORGANIZER:Bayside Inn
ATTACH;FMTTYPE="image/jpeg":http://storage.ning.com/topology/rest/1.0/
 file/get/1664070057?profile=original
ATTENDEE;ROLE=REQ-PARTICIPANT;PARTSTAT=ACCEPTED;RSVP=TRUE;CN="Nicole M
 axino":https://vbnightlife.com/profile/NicoleMaxino
END:VEVENT
END:VCALENDAR
