BEGIN:VCALENDAR
PRODID:NingEventWidget-v1
VERSION:2.0
METHOD:PUBLISH
BEGIN:VEVENT
UID:2508951:Event:218880
DTSTAMP:20260424T114757Z
SUMMARY:Absolute ARTINI Happy Hour at Bardo in Ghent
DESCRIPTION:\n\nFor more information visit https://vbnightlife.com/eve
 nts/absolute-artini-happy-hour-at-bardo-in-ghent
DTSTART:20130408T220000Z
DTEND:20130409T000000Z
CATEGORIES:fundraiser, "happy hour", "virginia moca"
LOCATION:Bardo Edibles & Elixirs
WEBSITE:http://www.bardoeats.com
URL:http://www.bardoeats.com
CONTACT:(757) 622-7362
ORGANIZER:VBnightlife.com / NorfolkNightlife.com
ATTACH;FMTTYPE="image/jpeg":http://storage.ning.com/topology/rest/1.0/
 file/get/1664193389?profile=original
ATTENDEE;ROLE=REQ-PARTICIPANT;PARTSTAT=ACCEPTED;RSVP=TRUE;CN="VBnightl
 ife.com":https://vbnightlife.com/profile/admin
END:VEVENT
END:VCALENDAR
