BEGIN:VCALENDAR
PRODID:NingEventWidget-v1
VERSION:2.0
METHOD:PUBLISH
BEGIN:VEVENT
UID:2508951:Event:279301
DTSTAMP:20260421T112531Z
SUMMARY:ABSOLUT ARTINI HAPPY HOUR AT Hell's Kitchen in Norfolk - BENEF
 IT FOR VIRGINIA MOCA
DESCRIPTION:Join us as we enjoy 10 weeks of happy hours leading up to 
 the gala spring fundraiser, ABSOLUT ARTini, on May 1st! Ten of the ar
 ea's finest restaurants showcase their creativity and distinct style i
 n preparing their signature \"ARTini\" that YOU get to vote for.COME O
 UT AND SAMPLE THE FRESH TO DEATH'TINI, HELL'S KITCHEN'S CREATION FOR A
 RTINI, FEATURING:ABSOLUT CILANTROABSOLUT CITRON CUCUMBER VODKACOINTRE
 AUSUGARFRESH CUCUMBEREnjoy free samples and good friends at this fundr
 aiser for the Virginia MOCA!\n\n\n\n\n\n\n\n\n\n\n\n\n\n\n\n\n\n\n\n\
 n\nFor more information visit https://vbnightlife.com/events/absolut-a
 rtini-happy-hour-at-hell-s-kitchen-benefit-for-virginia-
DTSTART:20140327T220000Z
DTEND:20140328T000000Z
CATEGORIES:fundraiser, artini, "virginia moca", "hell's kitchen"
LOCATION:Hell's Kitchen Norfolk
WEBSITE:
URL:
CONTACT:
ORGANIZER:VBnightlife.com / VBdaylife.com / NorfolkNightlife.com
ATTACH;FMTTYPE="image/jpeg":http://storage.ning.com/topology/rest/1.0/
 file/get/1664223644?profile=original
ATTENDEE;ROLE=REQ-PARTICIPANT;PARTSTAT=ACCEPTED;RSVP=TRUE;CN="VBnightl
 ife.com":https://vbnightlife.com/profile/admin
END:VEVENT
END:VCALENDAR
