BEGIN:VCALENDAR
PRODID:NingEventWidget-v1
VERSION:2.0
METHOD:PUBLISH
BEGIN:VEVENT
UID:2508951:Event:262633
DTSTAMP:20260422T030007Z
SUMMARY:A Recipe for Healthy Babies- Signature Chefs Auction® benefit
 ing the March of Dimes
DESCRIPTION:\n2013 Signature Chef AuctionSunday, October 6, 2013Founde
 rs Inn & Spa\n\n\n\nSignature Chefs Auction Virginia Beach\n\nBring to
 gether top local chefs showcasing their culinary masterpieces, a gen
 erous sampling of fine wines, fabulous entertainment and a lively auct
 ion featuring one-of-a-kind packages, and you’ve got a perfect reci
 pe for a Signature Chefs Auction event. These events, which help raise
  important dollars for the March of Dimes, pay tribute to the culinary
  excellence of local chefs and caterers in communities across the nati
 on, and are geared towards people who enjoy fine dining, fine wine, au
 ctions and entertainment.\n\nThe Basic Ingredients\n\nGenerally, in Si
 gnature Chefs Auction events, 15 to 25 of the finest chefs are asked t
 o present their signature dishes in a tasting size during a reception,
  as well as donate a unique package to be sold during the live auction
 . After enjoying an entertaining reception, guests are invited to bid 
 on a variety of packages during a live auction. Auction packages may i
 nclude fine dining, resort stays, spa vacations and much more. Signatu
 re Chefs Auction events are held primarily during the fall, in more th
 an 200 cities across the country raising important funds for the March
  of Dimes. Over 100,000 corporate and social community leaders attend 
 these events.\n\n \n\n\n\n\n\nFor more information visit https://vbni
 ghtlife.com/events/a-recipe-for-healthy-babies-signature-chefs-auction
 -benefiting-th
DTSTART:20131006T213000Z
DTEND:20131007T020000Z
CATEGORIES:vbnightlife, "march of dimes", "signature chefs auction"
LOCATION:The Founders Inn & Spa
WEBSITE:
URL:
CONTACT:
ORGANIZER;CN="VBnightlife.com":https://vbnightlife.com/profile/admin
ATTACH;FMTTYPE="image/jpeg":http://storage.ning.com/topology/rest/1.0/
 file/get/1664209397?profile=original
ATTENDEE;ROLE=REQ-PARTICIPANT;PARTSTAT=ACCEPTED;RSVP=TRUE;CN="Rolan St
 ears":https://vbnightlife.com/profile/RolanStears
ATTENDEE;ROLE=REQ-PARTICIPANT;PARTSTAT=ACCEPTED;RSVP=TRUE;CN="VBnightl
 ife.com":https://vbnightlife.com/profile/admin
END:VEVENT
END:VCALENDAR
