BEGIN:VCALENDAR
PRODID:NingEventWidget-v1
VERSION:2.0
METHOD:PUBLISH
BEGIN:VEVENT
UID:2508951:Event:154689
DTSTAMP:20260423T090557Z
SUMMARY:8th Annual Great American Family Dog & Cat Photo Exhibition & 
 Pet Parade
DESCRIPTION:For the eighth year the d'ART Center has partnered with l
 ocal Humane Societies to promote the art of Photography and the love o
 f Animals with the Great American Family Dog & Cat Photo Contest.\nDe
 adline to Entry is July 30, 2011. Download your Photo Contest Entry
  Form today!\nIf you are an amateur photographer who loves their pet 
 - submit your photo(s) in theGreat American Family Dog & Cat Photo Con
 test.\n\n\n\n\n\nThis year we are adding a \"Kids & their Pets\" phot
 o category so break out the camera and get busy!\n\nPhoto Contest Entr
 y Details:  - - - - - - -- Entry Fee $5 per photo- Submit 3\"x 5\" or
  4\"x 6\" prints, no digital images please- Include your name, phone #
  and pet(s) name on the back of each photo- Include a self addressed s
 tamped envelope. Photos must be available for reproduction- Amateur ph
 otographers ONLY- DOG(s) and/or Cat(s) photos accepted- Deadline for E
 ntry: July 30, 2011\nThe d'ART Center's 2011 Pet Parade Party will b
 e held on August 6, 2011 ~ \nThe Photo Contest Exhibition kicksoff wi
 th the Great American Family Dog and Cat Pet Parade Party\n\n\n\nFor m
 ore information visit https://vbnightlife.com/events/8th-annual-great-
 american
DTSTART:20110806T140000Z
DTEND:20110806T160000Z
CATEGORIES:"hampton roads fundraiser", "hampton roads events", "hampto
 n roads entertinament", "humane society", "hampton roads family fun", 
 "pet photography"
LOCATION:d'Art Center
WEBSITE:http://www.d-artcenter.org/224.html
URL:http://www.d-artcenter.org/224.html
CONTACT:
ORGANIZER:VBnightlife.com / VBdaylife.com / NorfolkNightlife.com
ATTACH;FMTTYPE="image/jpeg":http://storage.ning.com/topology/rest/1.0/
 file/get/1664145247?profile=original
ATTENDEE;ROLE=REQ-PARTICIPANT;PARTSTAT=ACCEPTED;RSVP=TRUE;CN="Rolan St
 ears":https://vbnightlife.com/profile/RolanStears
ATTENDEE;ROLE=REQ-PARTICIPANT;PARTSTAT=ACCEPTED;RSVP=TRUE;CN="VBnightl
 ife.com":https://vbnightlife.com/profile/admin
END:VEVENT
END:VCALENDAR
