BEGIN:VCALENDAR
PRODID:NingEventWidget-v1
VERSION:2.0
METHOD:PUBLISH
BEGIN:VEVENT
UID:2508951:Event:158126
DTSTAMP:20260423T235248Z
SUMMARY:8th Annual Ducktape Regatta for CHKD
DESCRIPTION:\nThe Duck Tape Regatta (DTR) is an unique fund-raiser for
  the Children's Hospital of The King's Daughters (CHKD). The 8th annua
 l will be held on Saturday, August 20, 2011, at the Willoughby Harbor 
 - a VMG Marina on 1525 Bayville Street in Norfolk, Virginia. Members o
 f The King's Daughters' Union of Hands and Southern Vines Circles are 
 coordinating the event. It is a very successful event that has raised 
 more than $150,000 for CHKD!DTR participants are given four hours to c
 reate a \"boat\" out of a kit that contains a sheet of plywood, two 2x
 4s, a roll of duct tape, and a pound of screws. The boats are then man
 ned and launched into a race for seaworthiness and speed. The adrenali
 ne and cheering of the crowd rivals any major NASCAR, Derby or track r
 ace. It is pure excitement!Surprisingly enough, the most amazing thing
  about the Duck Tape Regatta is not the construction of these boats, b
 ut the fact that every cent collected through sign-up fees, food, ente
 rtainment, and generous donations is given to the Children's Hospital 
 of The King's Daughters to ensure the best health care for the childre
 n of Hampton Roads, Virginia.To register a team, please go to our webs
 ite:www.ducktaperegatta.com ORhttp://events.r20.constant​contact.co
 m/register/event​?llr=nxrvvofab&oeidk=a07e3​vr7o221a0286b4Also, if
  you or your company would to donate goods or services to the event, p
 lease contact Christina Massey at ducktaperegatta@kingsdaugh​ters.or
 g\n\nFor more information visit https://vbnightlife.com/events/8th-ann
 ual-ducktape-regatta-fo
DTSTART:20110820T120000Z
DTEND:20110820T200000Z
CATEGORIES:"virginia beach family fun", "virginia beach fundraiser", "
 virginia beach events", chkd, "norfolk regatta", build-a-boat
LOCATION:Willoughby Harbor Marina
WEBSITE:http://www.ducktaperegatta.com
URL:http://www.ducktaperegatta.com
CONTACT:
ORGANIZER:VBnightlife.com / VBdaylife.com / NorfolkNightlife.com
ATTACH;FMTTYPE="image/jpeg":http://storage.ning.com/topology/rest/1.0/
 file/get/1664148625?profile=original
ATTENDEE;ROLE=REQ-PARTICIPANT;PARTSTAT=ACCEPTED;RSVP=TRUE;CN="VBnightl
 ife.com":https://vbnightlife.com/profile/admin
END:VEVENT
END:VCALENDAR
