BEGIN:VCALENDAR
PRODID:NingEventWidget-v1
VERSION:2.0
METHOD:PUBLISH
BEGIN:VEVENT
UID:2508951:Event:316262
DTSTAMP:20260424T121013Z
SUMMARY:7th Annual House of Blues & Brews
DESCRIPTION:General Admission $30 in advanceÂ (unlimited stews | no al
 cohol included)\nVIP $60 in advanceÂ (VIP includes unlimited stews | 3
  drink tickets | additional catering by Atlantic Shores in private ten
 ted space)\nAll ticket sales include unlimited food tastings, free adm
 ission to galleries and access to the Boardwalk Art Show silent auctio
 n.Â \n\nPurchase here:Â http://virginiamoca.org/7th-annual-house-blues
 -brews\nVOTE FOR THE PEOPLE'S CHOICE FAVORITE STEW!!\nYou donâ€™t want
  to miss MOCAâ€™s annual outdoor fall fest, theÂ House of Blues and Br
 ews, presented byÂ Atlantic Shores Retirement Community!Â Â Who makes 
 the best stew in town?Â  Eight local restaurants will compete for this
  honor.Â  Sample the stews and cast your vote while imbibing craft bre
 ws and swaying to the blues.Â  A silent auction will give you the oppo
 rtunity to own some art works from favoriteÂ Boardwalk Art ShowÂ artis
 ts.Â \nEnjoy casual camaraderie at the House of Blues and Brews while 
 listening to headlining actÂ Anthony Rosano and The ConqueroosÂ with o
 pening actÂ More Perfect Jones!Â Â \nWant exclusive, VIP access? A VIP
  tent will enhance your experience with the award-winning chefs from A
 tlantic Shores offering an array of enticing appetizers.Â  Three compl
 imentary drink tickets and a MOCA beer cup accompany the VIP ticket. Â
  \nThis is a rain or shine event!Â All proceeds benefit MOCAâ€™s exhib
 itions and education programs.\nDOOR PRICES: General Admission $35 and
  VIP $65.Â  Online ticket sales will end at 8pm on Saturday, October 3
 1st.\nStews:\n\n11th Street Taphouse Bar & Grille\nAtlantic Shores Ret
 irement CommunityÂ \nDancing Tomato\nEurasiaÂ CafÃ© & Wine Bar\nFusion
  Restaurant & Lounge\nLager Heads\nMasala Bites\nMontero's Restaurant,
  Bar and Catering\nRockafellerâ€™s\n\nBaked Goods:\n\nJust Cupcakes\nW
 hole Foods Market\nWillie Byrd ChocolateÂ Sauce\n\nBrews:Â \nCourtesy 
 of Back Bay Brewing CompanyÂ \n\nAtlantic Avenue IPA\nFalse Cape Amber
 \nNut Quacker Brown Ale\nSteel Pier Lager\n\nÂ \nAÂ selection of wines
  provided byÂ Excelsior\n\nFor more information visit https://vbnightl
 ife.com/events/7th-annual-house-of-blues-brews
DTSTART:20151101T180000Z
DTEND:20151101T220000Z
CATEGORIES:fundraiser, "virginia moca", "house of blues and brews"
LOCATION:VIRGINIA MUSEUM OF CONTEMPORARY ART
WEBSITE:
URL:
CONTACT:
ORGANIZER:VBnightlife.com / vbdaylife
ATTACH;FMTTYPE="image/jpeg":http://storage.ning.com/topology/rest/1.0/
 file/get/1664288598?profile=original
ATTENDEE;ROLE=REQ-PARTICIPANT;PARTSTAT=ACCEPTED;RSVP=TRUE;CN="Rolan St
 ears":https://vbnightlife.com/profile/RolanStears
ATTENDEE;ROLE=REQ-PARTICIPANT;PARTSTAT=ACCEPTED;RSVP=TRUE;CN="VBnightl
 ife.com":https://vbnightlife.com/profile/admin
END:VEVENT
END:VCALENDAR
