BEGIN:VCALENDAR
PRODID:NingEventWidget-v1
VERSION:2.0
METHOD:PUBLISH
BEGIN:VEVENT
UID:2508951:Event:161836
DTSTAMP:20260423T235340Z
SUMMARY:5th Annual Surfers Healing VB Fundraiser
DESCRIPTION:\nÂ \n\n\n\n5th Annual Surfers Healing VB Fundraisers\nSat
 urday, August 20 Â 8AM\nBetween 4th & 5th Streets, VB Oceanfront\n\n\n
 Surf Up For A Cause!\n\nCLICK HERE TO MAKE A DONATION\n\nSurf's Up for
  a Cause! Join us for the Fifth Annual Surfers Healing 5K at the Beach
  2011; voted by active.com as one of the top ten beachside races to ru
 n in this summer! Become a FUND-RAISING PARTICIPANT by asking your fam
 ily, friends, and neighbors to sponsor you for a set amount. Fund-Rais
 ing Participants will be eligible to win the following awards: Surfers
  Healing Cinch Back, Beach Towel, Beach Cooler, or Duffle Bag. The ind
 ividual raising the most funds overall will win a 16GB Ipod Nano! Proc
 eeds from this event will benefit two organizations; Surfers Healing V
 irginia Beach, an organization that seeks to enrich the lives of child
 ren with autism and the lives of their families by exposing them to th
 e unique experience of surfing and the incredible healing powers of th
 e sea and the Autism Society, Tidewater Virginia, a locally funded org
 anization that helps local family facing autism. For more information 
 about the Virginia Beach camp, please visit www.SurfersHealingVB.org.Â
  \n\n\n\n\nFor more information visit https://vbnightlife.com/events/5
 th-annual-surfers-healing-vb-fundraiser
DTSTART:20110820T040000Z
DTEND:20110821T035900Z
CATEGORIES:"virginia beach family fun", "virginia beach fundraiser", "
 virginia beach events", "events for special needs children", "surfing 
 with autism", "virginia beach sports"
LOCATION:Virginia Beach Oceanfront
WEBSITE:http://www.surfershealingvb.org/
URL:http://www.surfershealingvb.org/
CONTACT:
ORGANIZER:VBnightlife.com / VBdaylife.com
ATTACH;FMTTYPE="image/jpeg":http://storage.ning.com/topology/rest/1.0/
 file/get/1664145856?profile=original
ATTENDEE;ROLE=REQ-PARTICIPANT;PARTSTAT=ACCEPTED;RSVP=TRUE;CN="Rolan St
 ears":https://vbnightlife.com/profile/RolanStears
ATTENDEE;ROLE=REQ-PARTICIPANT;PARTSTAT=ACCEPTED;RSVP=TRUE;CN="VBnightl
 ife.com":https://vbnightlife.com/profile/admin
END:VEVENT
END:VCALENDAR
