BEGIN:VCALENDAR
PRODID:NingEventWidget-v1
VERSION:2.0
METHOD:PUBLISH
BEGIN:VEVENT
UID:2508951:Event:201734
DTSTAMP:20260421T101417Z
SUMMARY:50th Annual ECSC Friday - DAY 5
DESCRIPTION:\nFriday August 24\n\n\nÂ \n\n\n7:00 AM â€“ 6:00 PM\nAmate
 ur & Professional Surfing at 2nd Street\n\n7:00 AM â€“ 10:00 PMÂ Â Â Â
  Â Â \nT Shirt sales tents open (2nd to 6th Streets)\n\n10:00 AMÂ  â€“
  10:00 AM\nFood Vendor Court open @ 5th to 6th Streets\n\n10:00 AM â€“
  6:00 PM\nCoastal Edgeâ€™s Vendor Village @ 2nd Street\n\nNOON â€“ 7:0
 0 PM\nSponsor Village @ 5th Street\n\nNOON â€“ 7:00 PM\nTVA Volleyball
  Clinics & Exhibitions (6th Street)\n\n11:00 AM â€“ 10:00 PM\nBeverage
  Tent open @ 5th Street\n\n11:00 AM -NOON\nFox FMX Demo (3rd Street)\n
 \n3:00PM â€“ 4:00PM\nFox FMX Demo (3rd Street)\n\nNOON â€“ 1:00 PM\nVa
 ns Skate/BMX Demo Vert Ramp (3rd Street)\n\n2:00PM-3:00PM\nVans Skate/
 BMX Demo Vert Ramp (3rd Street)\n\nNOON â€“ 1:00 PM\nLXVI Invitational
  BMX Competitor Practice (3rd Street )\n\n1:00 PM â€“ 2:00 PM\nLXVI In
 vitational BMX Competitor Qualifier (3rd Street )\n\n3:00 PM â€“ 4:00 
 PM\nLIVE MUSIC- House of Marley Main Stage @ 4th Street â€“ Psychobill
 y Cadillac*\n\n5:00 PM â€“ 6:00 PM\nLIVE MUSIC- House of Marley Main S
 tage @ 4th Street â€“ Natureâ€™s Child*\n\n6:30 PM â€“ 8:00 PM\nLIVE M
 USIC- House of Marley Main Stage @ 4th Street â€“ Butter*\n\n8:30 PM â
 €“ 10:00 PM\nLIVE MUSIC - House of Marley Main Stage @ 4th Street â€“ 
 Hot 100.5 presents: Breathe Carolina*\n\n4:00 PM â€“ 5:00 PM\nCoastal 
 Edgeâ€™s Band of the Day â€“ Stage At The Jetty @ 2nd Street â€“ Volco
 m presents: Torche\n\n5:00PM-6:00PM\nCoastal Edgeâ€™s Band of the Day 
 â€“ Stage At The Jetty @ 2nd Street -Vans presents: People Under the S
 tairs\n\n6:00PM-7:00PM\nCoastal Edgeâ€™s Band of the Day â€“ Stage At 
 The Jetty @ 2nd Street -96X presents: Shiny Toy Gun\n\nNOON- 10:00 PM\
 nX-Life Film Festival [Check www.xlifefilmfest.com for times/locations
 ] [Open to Public but Admission Fee Required]\n\n\n\n\nFor more inform
 ation visit https://vbnightlife.com/events/50th-annual-ecsc-day-5
DTSTART:20120824T040000Z
DTEND:20120825T035900Z
CATEGORIES:virginia, beach, events, surfing, jaycees, ecsc, nightlife,
  entertainment
LOCATION:Oceanfront
WEBSITE:http://www.surfecsc.com/event-schedule/event-schedule/
URL:http://www.surfecsc.com/event-schedule/event-schedule/
CONTACT:
ORGANIZER;CN="VBnightlife.com":https://vbnightlife.com/profile/admin
ATTACH;FMTTYPE="image/jpeg":http://storage.ning.com/topology/rest/1.0/
 file/get/1664176844?profile=original
ATTENDEE;ROLE=REQ-PARTICIPANT;PARTSTAT=ACCEPTED;RSVP=TRUE;CN="VBnightl
 ife.com":https://vbnightlife.com/profile/admin
END:VEVENT
END:VCALENDAR
