BEGIN:VCALENDAR
PRODID:NingEventWidget-v1
VERSION:2.0
METHOD:PUBLISH
BEGIN:VEVENT
UID:2508951:Event:210610
DTSTAMP:20260419T190422Z
SUMMARY:4th Annual Warren Seaburg Mexican Mardi Gras
DESCRIPTION:Kick off 2013 in PHINZ STYLE! Join us FAT TUESDAY at Guada
 lajara (Town Center Virginia Beach location) for the 4th Annual Mexica
 n Mardi Gras Party dedicated to the memory of our dear phriend, Warren
  H. Seaburg, who kicked this party off for us in 2009.  The entertainm
 ent is second to NONE! Playing that night (in order of appearance) Mik
 e Proffitt & Dana Silvercloud! Joe Maniscalco & the ToucanJam Band! In
 cognito Brothers! Party Fins! Your emcee for the evening will none oth
 er that Craig Moeller, WVEC - Channel 13's Meterologist.  Advance sale
  tickets are JUST $15 each or $25 per couple. Event evening tickets at
  the door are $20 each.  Thanks to the generosity of Guadalajara and t
 he musicians & friends of Warren's who have donated their time and con
 siderable talent, 100% of the proceeds from this event will be donated
  to The American Cancer Society/Relay for Life.  Contact your Phriendl
 y Phinz member or call Patty at 286-2175 for tickets now. You can also
  pick up tickets at Brothers Printing (3320 Virginia Beach Blvd. Acros
 s from Sam's Club in Virginia Beach) or the American Cancer Society (4
 416 Expressway Drive, at Mt. Trashmore)  MAJOR CREDIT CARDS ACCEPTED â
 €¢ Cash â€¢ Checks (payable to The American Cancer Society)  MUSIC! GA
 MES! HAPPY HOUR SPECIALS throughout the event! Join in on the PHUN . .
  .come in costume!  With the spectacular band lineup that we have, we'
 re expecting tickets to go fast. GET YOURS NOW! This event is going to
  be OFF THE HOOK PHUN!\nÂ \nCheck out the event on Facebook!\nÂ \n\nFo
 r more information visit https://vbnightlife.com/events/4th-annual-war
 ren-seaburg-mexican-mardi-gras
DTSTART:20130212T050000Z
DTEND:20130213T045900Z
CATEGORIES:"warren seaburg", vbnightlife, "mexican mardi gras"
LOCATION:Guadalajara
WEBSITE:
URL:
CONTACT:
ORGANIZER;CN="VBnightlife.com":https://vbnightlife.com/profile/admin
ATTACH;FMTTYPE="image/jpeg":http://storage.ning.com/topology/rest/1.0/
 file/get/1664186139?profile=original
ATTENDEE;ROLE=REQ-PARTICIPANT;PARTSTAT=ACCEPTED;RSVP=TRUE;CN="Rolan St
 ears":https://vbnightlife.com/profile/RolanStears
ATTENDEE;ROLE=REQ-PARTICIPANT;PARTSTAT=ACCEPTED;RSVP=TRUE;CN="VBnightl
 ife.com":https://vbnightlife.com/profile/admin
END:VEVENT
END:VCALENDAR
