BEGIN:VCALENDAR
PRODID:NingEventWidget-v1
VERSION:2.0
METHOD:PUBLISH
BEGIN:VEVENT
UID:2508951:Event:194207
DTSTAMP:20260424T144826Z
SUMMARY:4th Annual Sweet Memories Champagne & Chocolate Brunch
DESCRIPTION:Come celebrate the Alzheimer's Association Southeastern Vi
 rginia Chapter's 30th Anniversary at their 4th Annual Sweet Memories
  Champagne & Chocolate Brunch. There will be a delicious brunch, cham
 pagne, chocolate samplings from The Royal Chocolate, and a silent auct
 ion. This is an elegent affair!\nThe keynote speaker will be Dr. Stev
 en DeKosky, who is the Vice President and Dean of the University of Vi
 rginia School of Medicine and an international leader in the field of 
 Alzheimer’s disease research. Dr. DeKosky served on the National Ass
 ociation’s Board of Directors and chaired the Association’s Medica
 l & Scientific Committee. He was also instrumental in developing the P
 ittsburgh Compound B to help detect plaques in the brain.\nTickets to 
 the event are $65. Family and corporate tables available. Call 757.459
 .2405 or go online.\nProceeds from Sweet Memories support local Associ
 ation programs and services along with national research initiatives.\
 nView our Facebook event: https://www.facebook.com/events/149651581823
 364/\n\nFor more information visit https://vbnightlife.com/events/4th-
 annual-sweet-memories-champagne-chocolate-brunch
DTSTART:20120506T150000Z
DTEND:20120506T190000Z
CATEGORIES:fundraiser
LOCATION:The Magnolia Room at the Elizabeth on the grounds of Atlantic
  Shores
WEBSITE:http://​alzseva.kintera.org/​sweetmemories
URL:http://​alzseva.kintera.org/​sweetmemories
CONTACT:757.459.2405
ORGANIZER:Alzheimer's Association
ATTACH;FMTTYPE="image/jpeg":http://storage.ning.com/topology/rest/1.0/
 file/get/1664168165?profile=original
ATTENDEE;ROLE=REQ-PARTICIPANT;PARTSTAT=ACCEPTED;RSVP=TRUE;CN="Kristy W
 yngaarden":https://vbnightlife.com/profile/KristyWyngaarden
END:VEVENT
END:VCALENDAR
