BEGIN:VCALENDAR
PRODID:NingEventWidget-v1
VERSION:2.0
METHOD:PUBLISH
BEGIN:VEVENT
UID:2508951:Event:306199
DTSTAMP:20260419T120507Z
SUMMARY:45th Annual YSC Party (aka Pig & Oyster Bash) Youth Services C
 lub
DESCRIPTION:The Youth Service Club’s 45th Annual Pig & Oyster Bash i
 s April 30th from 1 to 6pm at Camp Pendleton (formerly known as the Ex
 change Club Party). Enjoy food, music, beer, wine, oysters, chicken, p
 ulled and chopped BBQ, world famous chili and clam chowder. Listen to 
 local favorites Breaking Brad and The River Boyz belt out some of the 
 best music around while you dance with 3500 of your closest friends. T
 ickets available for a $50 donation by calling Danny Byrd at 757-449-1
 305. This event sells out every year. Proceeds benefit Virginia Beach 
 charities.                   \n\n \n\nPHOTOS FROM PAST YEAR
 S HERE: Youth Services Club Pig Picking(Exchange Club)\n \n\nFor more
  information visit https://vbnightlife.com/events/44th-annual-exchange
 -party-aka-pig-oyster-bash-youth-services-clu
DTSTART:20160430T170000Z
DTEND:20160430T220000Z
CATEGORIES:"virginia beach events", "virginia beach concerts", "virgin
 ia beach fundraisers", "carbon jam", "the deloreans", "the youth found
 ation of virginia beach", "exchange party"
LOCATION:Camp Pendleton
WEBSITE:
URL:
CONTACT:
ORGANIZER:vbdaylife/ Youth Service Club
ATTACH;FMTTYPE="image/jpeg":http://storage.ning.com/topology/rest/1.0/
 file/get/1664162777?profile=original
ATTENDEE;ROLE=REQ-PARTICIPANT;PARTSTAT=ACCEPTED;RSVP=TRUE;CN="VBnightl
 ife.com":https://vbnightlife.com/profile/admin
END:VEVENT
END:VCALENDAR
