BEGIN:VCALENDAR
PRODID:NingEventWidget-v1
VERSION:2.0
METHOD:PUBLISH
BEGIN:VEVENT
UID:2508951:Event:76100
DTSTAMP:20260423T120330Z
SUMMARY:4:1 at Lendy's Cafe VB
DESCRIPTION:Come rock with 4:1 at Lendy's Friday, April 8th.\n\nFor mo
 re information visit https://vbnightlife.com/events/41-at-lendys-cafe-
 vb
DTSTART:20110409T013000Z
DTEND:20110409T053000Z
CATEGORIES:band, live, music
LOCATION:Lendy's Cafe and Raw Bar
WEBSITE:
URL:
CONTACT:757-491-3511
ORGANIZER:4:1 & Lendy's
ATTACH;FMTTYPE="image/jpeg":http://storage.ning.com/topology/rest/1.0/
 file/get/1664133382?profile=original
ATTENDEE;ROLE=REQ-PARTICIPANT;PARTSTAT=ACCEPTED;RSVP=TRUE;CN="Russ Kel
 ler":https://vbnightlife.com/profile/RussKeller
END:VEVENT
END:VCALENDAR
