BEGIN:VCALENDAR
PRODID:NingEventWidget-v1
VERSION:2.0
METHOD:PUBLISH
BEGIN:VEVENT
UID:2508951:Event:187236
DTSTAMP:20260424T222311Z
SUMMARY:4 On The Shore \"Vice vs. Ice\" 80's and 90's Bar Crawl + The 
 Leukemia & Lymphoma Society Benefit
DESCRIPTION:4 On The Shore \"Vice vs. Ice\" 80's and 90's Bar Crawl\nÂ
  \nWhenÂ SaturdayÂ Â Â Â TimeÂ Â 4:00pmÂ untilÂ 10:30pm\n\nÂ \n\nShore
 break-Smokehouse-O'Leary's-Hot Tuna, 2941 Shore Drive, Virginia Beach,
  VA\n\n\n\n\n\nÂ \n\nÂ \n\nThe 4 On The Shore crew is at it again, wit
 h their 6th bar crawl.....this winter's best event.....the 4 On The Sh
 ore \"Vice vs. Ice\" 80's and 90's Bar Crawl.  Shore Drive will become
  a virtual time machine, as the clock gets turned back for a battle be
 tween the 1980's andÂ ...1990's! The whole crew will be there, includi
 ng Crockett, Tubbs, and Vanilla himself!!  For those of you that have 
 been to one of the epic 4 On The Shore Bar Crawls before, then no expl
 anation is needed....just pick your 80's or 90's allegiance and get yo
 ur appropriate gear ready. If this will be your 1st time with us, get 
 ready for one of the most fun nights of the year.Â   The schedule of s
 tops is: Shorebreak, 1st Stop and Registration, 4pm-6pm Smokehouse, 2n
 d Stop, 6-7:30pm O'Leary's, 3rd Stop, 7:30-9pm Hot Tuna, Final Stop, 9
 pm-???  Your $30 registration gets you a free cocktail at each of the 
 bars, an AWESOME short sleeve commemorative T-shirt, and a souvenir cu
 p good for unlimited discounted refills. All of this, AND it goes towa
 rd a great cause.....The Leukemia & Lymphoma Society.  Please come out
  and join us and help kick cancer's a*s.....one drink at a time!!! Â \
 nP.S. No, costumes are not limited to Miami Vice and Vanilla Ice.....a
 ll 80's & 90's costumes are fair game\n\n\n\n\n\n\n\n\nFor more inform
 ation visit https://vbnightlife.com/events/4-on-the-shore
DTSTART:20120121T210000Z
DTEND:20120122T033000Z
CATEGORIES:fundraiser, "bar crawl"
LOCATION:VIRGINIA BEACH
WEBSITE:
URL:
CONTACT:
ORGANIZER;CN="VBnightlife.com":https://vbnightlife.com/profile/admin
ATTACH;FMTTYPE="image/jpeg":http://storage.ning.com/topology/rest/1.0/
 file/get/1664160691?profile=original
ATTENDEE;ROLE=REQ-PARTICIPANT;PARTSTAT=ACCEPTED;RSVP=TRUE;CN="VBnightl
 ife.com":https://vbnightlife.com/profile/admin
END:VEVENT
END:VCALENDAR
