BEGIN:VCALENDAR
PRODID:NingEventWidget-v1
VERSION:2.0
METHOD:PUBLISH
BEGIN:VEVENT
UID:2508951:Event:162402
DTSTAMP:20260423T211758Z
SUMMARY:4:1 at Chicho's Chesapeake
DESCRIPTION:10PM-12:30AM\n \n4:1 will be rockin the Newly Expanded Ch
 icho's in Chesapeake so come join us for some rock and roll, a great t
 ime, and of course good food.\n\nFor more information visit https://vb
 nightlife.com/events/4-1-at-chicho-s-chesapeake
DTSTART:20110820T020000Z
DTEND:20110820T034500Z
CATEGORIES:live, music
LOCATION:Chicho's Chesapeake
WEBSITE:
URL:
CONTACT:548-2442
ORGANIZER:Chicho's Chesapeake - 4:1
ATTACH;FMTTYPE="image/jpeg":http://storage.ning.com/topology/rest/1.0/
 file/get/1664149891?profile=original
ATTENDEE;ROLE=REQ-PARTICIPANT;PARTSTAT=ACCEPTED;RSVP=TRUE;CN="Russ Kel
 ler":https://vbnightlife.com/profile/RussKeller
END:VEVENT
END:VCALENDAR
