BEGIN:VCALENDAR
PRODID:NingEventWidget-v1
VERSION:2.0
METHOD:PUBLISH
BEGIN:VEVENT
UID:2508951:Event:170594
DTSTAMP:20260420T110032Z
SUMMARY:4:1 at Chicho's Chesapeake
DESCRIPTION:4:1 live at Chicho's Chesapeake for a rockin good time and
  of course awesome pie!\n\nFor more information visit https://vbnightl
 ife.com/events/4-1-at-chicho-s-chesapeake-1
DTSTART:20111001T020000Z
DTEND:20111001T043000Z
CATEGORIES:band, live, music
LOCATION:Chicho's Chesapeake
WEBSITE:
URL:
CONTACT:548-2442
ORGANIZER:Chicho's and 4:1
ATTACH;FMTTYPE="image/jpeg":http://storage.ning.com/topology/rest/1.0/
 file/get/1664151330?profile=original
ATTENDEE;ROLE=REQ-PARTICIPANT;PARTSTAT=ACCEPTED;RSVP=TRUE;CN="Russ Kel
 ler":https://vbnightlife.com/profile/RussKeller
END:VEVENT
END:VCALENDAR
