BEGIN:VCALENDAR
PRODID:NingEventWidget-v1
VERSION:2.0
METHOD:PUBLISH
BEGIN:VEVENT
UID:2508951:Event:211950
DTSTAMP:20260421T012804Z
SUMMARY:3rd Annual YAAA! for a Cure Black Tie Bowling
DESCRIPTION:The Young Adults for Alzheimer's Awareness (YAAA!) group p
 resents the 3rd Annual YAAA! For a Cure Black Tie Bowling signature fu
 ndraiser, a fun and unique event to benefit the Alzheimer's Associatio
 n Southeastern Virginia Chapter. This is a \"black tie\" on top and \"
 anything goes\" on the bottom affair- so dust off your \"night on the 
 town\" digs, let your hair down (or wear it up in a chignon) and join 
 us for a spectacular bowling event for those 21+! Awards will be given
  out based on bowling and costume!   The $40 per person fee includes 
 food, bowling, shoe rental, drinks, raffles, and a silent auction. Spa
 ce is limited (we sold out last year) so register your team of 6 today
 . Non-bowlers can come hang out - pay $20 at the door (includes food, 
 soft drinks, and you can participate in the raffles and silent auction
 .)  See pictures from last year: https://www.facebook.com/media/set/?s
 et=a.415112218517487.106236.111842515511127&type=3\n\nFor more informa
 tion visit https://vbnightlife.com/events/3rd-annual-yaaa-for-a-cure-b
 lack-tie-bowling
DTSTART:20130303T000000Z
DTEND:20130303T040000Z
CATEGORIES:fundraiser
LOCATION:AMF Chesapeake Lanes
WEBSITE:http://act.alz.org/2013yaaabtb
URL:http://act.alz.org/2013yaaabtb
CONTACT:757-459-2405
ORGANIZER:The Young Adults for Alzheimer's Awareness (YAAA!), Alzheime
 r's Association
ATTACH;FMTTYPE="image/jpeg":http://storage.ning.com/topology/rest/1.0/
 file/get/1664186966?profile=original
ATTENDEE;ROLE=REQ-PARTICIPANT;PARTSTAT=ACCEPTED;RSVP=TRUE;CN="Kristy W
 yngaarden":https://vbnightlife.com/profile/KristyWyngaarden
END:VEVENT
END:VCALENDAR
