BEGIN:VCALENDAR
PRODID:NingEventWidget-v1
VERSION:2.0
METHOD:PUBLISH
BEGIN:VEVENT
UID:2508951:Event:302843
DTSTAMP:20260423T091147Z
SUMMARY:3rd Annual Santa on the Beach to Benefit the Virginia Beach Li
 feguard Association
DESCRIPTION: Bring your family, friends, co-workers, teammates and fr
 iends to the 3rd Annual Santa on the Beach. No fee for sitting with Sa
 nta nor taking pictures with the Jolly old Elf. Donations are accepted
  and benefit the VBLA and LivOn Foundation.\n\nFor more information vi
 sit https://vbnightlife.com/events/3rd-annual-santa-on-the-beach-to-be
 nefit-the-virginia-beach-lifeg
DTSTART:20141129T170000Z
DTEND:20141129T210000Z
CATEGORIES:fundraiser, "things to do in virginia beach", " photos with
  santa"
LOCATION:Virginia Beach Oceanfront
WEBSITE:
URL:
CONTACT:
ORGANIZER:VBnightlife.com / VBdaylife.com
ATTACH;FMTTYPE="image/jpeg":http://storage.ning.com/topology/rest/1.0/
 file/get/1664258684?profile=original
ATTENDEE;ROLE=REQ-PARTICIPANT;PARTSTAT=ACCEPTED;RSVP=TRUE;CN="VBnightl
 ife.com":https://vbnightlife.com/profile/admin
END:VEVENT
END:VCALENDAR
