BEGIN:VCALENDAR
PRODID:NingEventWidget-v1
VERSION:2.0
METHOD:PUBLISH
BEGIN:VEVENT
UID:2508951:Event:6814
DTSTAMP:20260425T190411Z
SUMMARY:3rd Annual Jazz Legends Festival @ Sandler Center for the Perf
 orming Arts
DESCRIPTION:\n\nFor more information visit https://vbnightlife.com/eve
 nts/3rd-annual-jazz-legends
DTSTART:20090307T003000Z
DTEND:20090307T040000Z
CATEGORIES:live, music, jazz
LOCATION:Sandler Center for Performing Arts
WEBSITE:
URL:
CONTACT:
ORGANIZER:City of Virginia Beach, Hilton Garden Inn, Westin
ATTACH;FMTTYPE="image/jpeg":http://storage.ning.com/topology/rest/1.0/
 file/get/3723679972?profile=original
ATTENDEE;ROLE=REQ-PARTICIPANT;PARTSTAT=ACCEPTED;RSVP=TRUE;CN="Nicole M
 axino":https://vbnightlife.com/profile/NicoleMaxino
END:VEVENT
END:VCALENDAR
