BEGIN:VCALENDAR
PRODID:NingEventWidget-v1
VERSION:2.0
METHOD:PUBLISH
BEGIN:VEVENT
UID:2508951:Event:278170
DTSTAMP:20260422T090516Z
SUMMARY:3RD ANNUAL HRFEN OSCAR PARTY
DESCRIPTION:Why we Love This EVENT?\n\nJoin us for the biggest Movie E
 vent of the Year!\nRed Carpet Oscar Party to view the 86th Annual Acad
 emy Awards in Style.\nExclusive offer: Only 30 tickets available at th
 is price.\nTicket includes Wine, Beer and top of the line food includi
 ng fruit/ Veggie trays, shrimp cocktail, meatballs, empanadas, etc.\nM
 ixed drinks available for purchase.\nLocation: Traditions Grill, Ches
 apeake, VA - Only 15 Miles from Virginia Beach Town Center.\nSingles a
 nd couples welcome.\nSunday March 2nd at 7:30pm.\nMeet new friends; ne
 twork with business owners.  \nRed Carpet Photos with Professional Ph
 otographer.\nCocktail / Ball gown attire recommended.\nOscar trophies 
 will be given out for 8 categories! \nBest Dressed Male\nBest Dressed
  Female\nBest Female Performance On the Dance Floor\nBest Male Perform
 ance on the Dance Floor\nBest Director of HR FEN Events\nBest HR FENer
  in a Supporting Role\nBest HR FENer in a comedic role\n\n\n\nWhat' th
 e Catch?\n\nDoors open at 7:30. Parking is plentiful and free. \nYour
  name will be on the guest list at the door.\nEnjoy an elegant evening
 \n\nPURCHASE YOUR DISCOUNT TICKETS HERE\n\nFor more information visit 
 https://vbnightlife.com/events/3rd-annual-hrfen-oscar-party
DTSTART:20140303T003000Z
DTEND:20140303T040000Z
CATEGORIES:party
LOCATION:TRADITIONS GRILL
WEBSITE:
URL:
CONTACT:
ORGANIZER;CN="VBnightlife.com":https://vbnightlife.com/profile/admin
ATTACH;FMTTYPE="image/jpeg":http://storage.ning.com/topology/rest/1.0/
 file/get/1664224398?profile=original
ATTENDEE;ROLE=REQ-PARTICIPANT;PARTSTAT=ACCEPTED;RSVP=TRUE;CN="VBnightl
 ife.com":https://vbnightlife.com/profile/admin
END:VEVENT
END:VCALENDAR
