BEGIN:VCALENDAR
PRODID:NingEventWidget-v1
VERSION:2.0
METHOD:PUBLISH
BEGIN:VEVENT
UID:2508951:Event:291167
DTSTAMP:20260425T102634Z
SUMMARY:3rd Annual Extortion 17 Memorial Ride
DESCRIPTION:The Extortion 17 Memorial Ride is dedicated to the memory 
 of 30 active duty military and 1 military working dog killed in action
  on August 6, 2011. Extortion 17 was the CH-47 helicopter shot down by
  enemy fire in Afghanistan on August 6, 2011. All proceeds from the fu
 ndraiser will go to \"The 31 Heroes Project\", (www.31heroes.com). Ext
 ortion 17 Memorial Ride is hosting the second annual fundraiser on Aug
 ust 3, 2013.Registration will be from 8:00 am - 12:00 pm at Lendy's Ca
 fe at 1581 General Booth Blvd in Virginia Beach, VA. At 12:00 pm we w
 ill have a police escort to Blue Pete's Restaurant at 1400 N. Muddy Cr
 eek Road in Virginia Beach.Around 1:00 pm we will begin our commemorat
 ion of our fallen heroes which will be followed by live music by local
  bands Herbie D and the Dangerman and Freedom Hawk, food and drinks, a
 nd a live auction.Sponsorship and/or Donation opportunities are availa
 ble and encouraged. For more information on Sponsorship opportunities 
 please email extortion17memorialride@gmail.com Everyone with one wheel
 , two wheels, three wheels, or four wheels are welcomed to join us in 
 the commemoration of our fallen hereos!Online pre-registration is now 
 available by clicking the link below!! https://31heroes.wufoo.com/for
 ms/extortion-17-memorial-ride-2013-s7w6m7/We look forward to seeing ev
 eryone again!! Thank you for helping us raise over $340,000 in the las
 t two years. \n\nFor more information visit https://vbnightlife.com/e
 vents/3rd-annual-extortion-17-memorial-ride
DTSTART:20140802T040000Z
DTEND:20140803T035900Z
CATEGORIES:fundraiser, "bike ride", "memorial ride"
LOCATION:Lendy's Cafe
WEBSITE:
URL:
CONTACT:
ORGANIZER:VBnightlife.com / Lendy's Cafe
ATTACH;FMTTYPE="image/jpeg":http://storage.ning.com/topology/rest/1.0/
 file/get/1664241512?profile=original
ATTENDEE;ROLE=REQ-PARTICIPANT;PARTSTAT=ACCEPTED;RSVP=TRUE;CN="Rolan St
 ears":https://vbnightlife.com/profile/RolanStears
ATTENDEE;ROLE=REQ-PARTICIPANT;PARTSTAT=ACCEPTED;RSVP=TRUE;CN="VBnightl
 ife.com":https://vbnightlife.com/profile/admin
END:VEVENT
END:VCALENDAR
