BEGIN:VCALENDAR
PRODID:NingEventWidget-v1
VERSION:2.0
METHOD:PUBLISH
BEGIN:VEVENT
UID:2508951:Event:172059
DTSTAMP:20260420T151050Z
SUMMARY:38th ANNUAL NEPTUNE FESTIVAL- Surfing Classic
DESCRIPTION:Hundreds of surfers of all ages hit the waves in this clas
 sic surfing competition.  Produced in cooperation with the Eastern Su
 rfing Association, pre-registration is required to participate, but vi
 ewing is free and open to the public.\nFor more information, please co
 ntact (757) 696-1050.  Competition schedule of events will be posted 
 to the ESA Newsline at (757) 455-5094 by Wednesday, September 28, and 
 any last minute changes to the schedule will be posted on the beach an
 d on the Newsline. \n\nFor more information visit https://vbnightlife.
 com/events/38th-annual-neptune-festival-surfing-classic
DTSTART:20111002T040000Z
DTEND:20111003T035900Z
CATEGORIES:"virginia beach events", "virginia beach entertainment", "v
 irginia beach bands", "virginia beach djs", "virginia beach family fun
 ", "virginia beach fundraisers", "neptune festival", surf
LOCATION:Virginia Beach Oceanfront
WEBSITE:http://www.neptunefestival.com/events/neptunes-surfing-classic
 /20
URL:http://www.neptunefestival.com/events/neptunes-surfing-classic/20
CONTACT:
ORGANIZER;CN="VBnightlife.com":https://vbnightlife.com/profile/admin
ATTACH;FMTTYPE="image/jpeg":http://storage.ning.com/topology/rest/1.0/
 file/get/1664154281?profile=original
ATTENDEE;ROLE=REQ-PARTICIPANT;PARTSTAT=ACCEPTED;RSVP=TRUE;CN="VBnightl
 ife.com":https://vbnightlife.com/profile/admin
END:VEVENT
END:VCALENDAR
