BEGIN:VCALENDAR
PRODID:NingEventWidget-v1
VERSION:2.0
METHOD:PUBLISH
BEGIN:VEVENT
UID:2508951:Event:171856
DTSTAMP:20260420T110637Z
SUMMARY:38th ANNUAL NEPTUNE FESTIVAL- Sandsculpting Championship
DESCRIPTION:When Sculptors are working until Friday. Works are on dis
 play through Oct. 9\nWhere 4th through 10th streets at the Oceanfront
 \nCost Starting Friday, $3 for anyone over 12.  \n \nIt's been the 
 signature event of the Virginia Beach Neptune Festival since its incep
 tion.  Now it becomes the signature event of an entire region as the 
 North American Sandsculpting Championship expands to ten days.  With 
 an international field of sculptors representing 10 countries from aro
 und the world, the expansion of the competition puts this as one of th
 e most distinctive events of its kind in the United States.\nNEW IN 20
 11! NEPTUNE'S KINGDOM: THE LAND OF SAND\nA huge tent, almost as large 
 as a football field, will house 22 sculptures created by 12 solo and 
 10 doubles teams! Sculptors will compete for the largest prize purse 
 awarded in the country.  We welcome the return of some of our long-ti
 me professional artists, as well as 10 sculptors who are new to the co
 mpetition in 2011!\n\nExtended viewing time of 10 days\nExpanded walkw
 ays and viewing areas providing an intimate view of the process and ar
 twork\nImproved lighting for viewing into the evening hours\nProtectio
 n from wind and rain, providing an entertainment option no matter the
  weather!\nLive music and entertainment exclusive to the sandsculpting
  tent\nTeaching demos and live \"QuickSand\" competitions\nMeet and Gr
 eet opportunities with the extremely talented pool of sculptors!\n\nCh
 eck out the other Neptune Festival Events:\nSand Sculpting Championshi
 ps\nArts & Crafts Show\nSurfing Classic\n5K/8K Run\nLive Music\n\nFor 
 more information visit https://vbnightlife.com/events/38th-annual-nept
 une-festival-sandsculpting-championship
DTSTART:20111005T040000Z
DTEND:20111010T035900Z
CATEGORIES:"virginia beach events", "virginia beach entertainment", "v
 irginia beach bands", "virginia beach djs", "virginia beach family fun
 ", "virginia beach fundraisers", "neptune festival", "sand sculpture"
LOCATION:Virginia Beach Oceanfront
WEBSITE:http://www.neptunefestival.com/events/north-american-sandsculp
 ting-championship/14
URL:http://www.neptunefestival.com/events/north-american-sandsculpting
 -championship/14
CONTACT:
ORGANIZER;CN="VBnightlife.com":https://vbnightlife.com/profile/admin
ATTACH;FMTTYPE="image/jpeg":http://storage.ning.com/topology/rest/1.0/
 file/get/1664153472?profile=original
ATTENDEE;ROLE=REQ-PARTICIPANT;PARTSTAT=ACCEPTED;RSVP=TRUE;CN="VBnightl
 ife.com":https://vbnightlife.com/profile/admin
END:VEVENT
END:VCALENDAR
