BEGIN:VCALENDAR
PRODID:NingEventWidget-v1
VERSION:2.0
METHOD:PUBLISH
BEGIN:VEVENT
UID:2508951:Event:171853
DTSTAMP:20260420T134913Z
SUMMARY:38th ANNUAL NEPTUNE FESTIVAL- ART & CRAFT SHOW
DESCRIPTION:Neptune’s Art and Craft Show features more than 300 exhi
 bitors who present original work in individual displays continuously a
 long the boardwalk, overlooking the beautiful Atlantic Ocean and vast 
 sandy beach. Take a leisurely stroll and examine the work, talk to art
 ists or even purchase your favorite pieces!\nProduced in cooperation w
 ith the Contemporary Art Center of Virginia, this juried art show requ
 ires pre-registration to participate, but viewing is free and open to 
 the public.  Artists and craftsmen in all media are eligible, and acc
 eptance is based on a blind jury process. This show does not include a
  section for commercial or imported products. In all cases, the spirit
  of our guidelines intends that the work depend heavily on the “hand
 made\" aspect of art and craft. We do not allow buy/sell and we reserv
 e the right to remove work from the show that violates our policies an
 d guidelines. All accepted artists are eligible for awards.\n\nSHOW HO
 URS:  \nFriday:       12noon-7pm \nSaturday:  10am-7pm \nSun
 day:    10am-6pm\n \nCheck out the other Neptune Festival Events:\
 nSand Sculpting Championships\nArts & Crafts Show\nSurfing Classic\n5K
 /8K Run\nLive Music\n\nFor more information visit https://vbnightlife.
 com/events/38th-annual-neptune-festival-art-craft-show
DTSTART:20111002T160000Z
DTEND:20111002T220000Z
CATEGORIES:"virginia beach events", "virginia beach entertainment", "v
 irginia beach bands", "virginia beach djs", "virginia beach family fun
 ", "virginia beach fundraisers", "neptune festival", "art & craft show
 "
LOCATION:Virginia Beach Oceanfront
WEBSITE:http://www.neptunefestival.com/events/neptunes-art-and-craft-s
 how/15
URL:http://www.neptunefestival.com/events/neptunes-art-and-craft-show/
 15
CONTACT:
ORGANIZER;CN="VBnightlife.com":https://vbnightlife.com/profile/admin
ATTACH;FMTTYPE="image/jpeg":http://storage.ning.com/topology/rest/1.0/
 file/get/1664153337?profile=original
ATTENDEE;ROLE=REQ-PARTICIPANT;PARTSTAT=ACCEPTED;RSVP=TRUE;CN="Rolan St
 ears":https://vbnightlife.com/profile/RolanStears
ATTENDEE;ROLE=REQ-PARTICIPANT;PARTSTAT=ACCEPTED;RSVP=TRUE;CN="VBnightl
 ife.com":https://vbnightlife.com/profile/admin
END:VEVENT
END:VCALENDAR
