BEGIN:VCALENDAR
PRODID:NingEventWidget-v1
VERSION:2.0
METHOD:PUBLISH
BEGIN:VEVENT
UID:2508951:Event:172063
DTSTAMP:20260420T110524Z
SUMMARY:38th ANNUAL NEPTUNE FESTIVAL- 8k & 5k Run
DESCRIPTION:Race down Atlantic Avenue to the Rudee Inlet as spectators
  and family members cheer you on. Enjoy the camaraderie and festivitie
 s in 24th Street Park after the race, and the fantastic views of the A
 tlantic Ocean from the park. With plenty of food, drink and random pri
 ze drawings, the post-race party is fun for the participants and their
  guests!\n$25 (registered/postmarked by Aug 12)\n$30 (registered/postm
 arked by Sept 9)\n$35 (registered/postmarked after Sept 9)\nSTART TIME
 S:\n5K  7:45AM  |  8K  8:15AM, 8:10AM WHEELCHAIR START\nPre-regist
 ration required to participate. Viewing is free and open to the public
 .  For more information call (757) 498-0215.\nLate Registration and P
 acket Pick-Up will be on Friday, September 30th from 3:00-7:00pm:\nRun
 ning Etc. in Virginia Beach (Regency Hilltop | Laskin Road)\nRace-Day 
 Registration and Packet Pick-Up will be on Saturday, October 1st from 
 6:30-7:45am:\n24th Street Park (Atlantic Avenue | Virginia Beach,VA)\n
 \nFor more information visit https://vbnightlife.com/events/38th-annua
 l-neptune-festival-8k-5k-run
DTSTART:20111001T114500Z
DTEND:20111001T150000Z
CATEGORIES:"virginia beach events", "virginia beach entertainment", "v
 irginia beach bands", "virginia beach djs", "virginia beach family fun
 ", "virginia beach fundraisers", "neptune festival", 5k, 8k
LOCATION:Virginia Beach Oceanfront
WEBSITE:http://www.neptunefestival.com/events/neptunes-8k-and-5k-run/1
 7
URL:http://www.neptunefestival.com/events/neptunes-8k-and-5k-run/17
CONTACT:
ORGANIZER;CN="VBnightlife.com":https://vbnightlife.com/profile/admin
ATTACH;FMTTYPE="image/jpeg":http://storage.ning.com/topology/rest/1.0/
 file/get/1664154350?profile=original
ATTENDEE;ROLE=REQ-PARTICIPANT;PARTSTAT=ACCEPTED;RSVP=TRUE;CN="VBnightl
 ife.com":https://vbnightlife.com/profile/admin
END:VEVENT
END:VCALENDAR
