BEGIN:VCALENDAR
PRODID:NingEventWidget-v1
VERSION:2.0
METHOD:PUBLISH
BEGIN:VEVENT
UID:2508951:Event:161935
DTSTAMP:20260423T060856Z
SUMMARY:36th Annual Artisans in the Park
DESCRIPTION:Great Neck Park\n2513 Shorehaven Drive\nVirginia Beach, VA
 \n \n\n\n\nExplore the works of over 80 artists and craftsmen during 
 our 36th annual art and craft festival,\nArtisans in the Park - all in
  the serenely secluded backdrop of Great Neck Park\n(2513 Shorehaven D
 rive).\nThis free two-day event offers you the unique opportunity to g
 et outdoors and enjoy Virginia Beach's summertime weather while discov
 ering the originality of local and national artists displaying, demons
 trating and selling their o...riginal art and fine craft wares. \nMai
 n Stage Musical Entertainment | Emcee: Neil TownsendSaturday, August 6
 11 am & 12 pm | Southside Harmonica Club !!2 pm & 3 pm | Saxophonist: 
 Johnny JSunday, August 711 am & 12 pm | Saxophonist: Johnny J2 pm | Ce
 ltic Musicians: Gan AinmChildren’s AreaSaturday, August 6 | Shelter 
 #111 am, 1 pm & 3 pm | Story Time with Kelly Garcia, author of Takako 
 and the Great Typhoon2 pm | Silly Sing-a-long with Emily12 pm - 2 pm |
  Face PaintingFree Child Identification Cards by Virginia Beach Mason 
 Lodge District 56Saturday | 10 am - 5 pmSunday | 10 am - 4 pmCeramic D
 esigner’s Association Display SaleSaturday & Sunday | Shelter #4Free
 ! Clay Play for ChildrenSaturday | 11 am - 4 pmSunday | 12 noon - 3 pm
 A variety of food concessionaires will be selling hot dogs, hamburgers
 , sausage, pitas and more! Smoothies, lemonade, kettle corn, ice cream
  and even funnel cake will be available.Parking is available at Cox Hi
 gh School (corner of Great Neck Road & Shorehaven Drive), with free sh
 uttle bus service to the nearby park.Saturday, August 6 from 10 am to 
 5 pmSunday, August 7 from 10 am to 4 pm\n\n\n\n\n\n\n\n\n\n\n\n\n\n\n\
 n\n\nFor more information visit https://vbnightlife.com/events/36th-an
 nual-artisans-in-the-park
DTSTART:20110807T140000Z
DTEND:20110807T220000Z
CATEGORIES:"virginia beach family fun", "virginia beach art", "virgini
 a beach events", "virginia beach music", "free entertainment"
LOCATION:Great Neck Park
WEBSITE:
URL:
CONTACT:
ORGANIZER:VBnightlife.com / VBdaylife.com
ATTACH;FMTTYPE="image/jpeg":http://storage.ning.com/topology/rest/1.0/
 file/get/1664145208?profile=original
ATTENDEE;ROLE=REQ-PARTICIPANT;PARTSTAT=ACCEPTED;RSVP=TRUE;CN="Rolan St
 ears":https://vbnightlife.com/profile/RolanStears
ATTENDEE;ROLE=REQ-PARTICIPANT;PARTSTAT=ACCEPTED;RSVP=TRUE;CN="VBnightl
 ife.com":https://vbnightlife.com/profile/admin
END:VEVENT
END:VCALENDAR
