BEGIN:VCALENDAR
PRODID:NingEventWidget-v1
VERSION:2.0
METHOD:PUBLISH
BEGIN:VEVENT
UID:2508951:Event:38334
DTSTAMP:20260425T231312Z
SUMMARY:34 ANNUAL NORFOLK HARBORFEST
DESCRIPTION:Welcome to the 34th Annual Norfolk Harborfest®,\nHampton 
 Roads' Largest Dock Party 34 years of festival traditions are celebrat
 ed on land as well as on the river!\n\nLocation: Town Point Park, Down
 town Norfolk, Virginia\nDate: June 11-13, 2010\nTime: Friday: Noon - 1
 1 pm\nSaturday: Noon -11 pm\nSunday: Noon - 6 pm\n\nMusic headliners i
 nclude BoDeans (8:30 p.m. June 11), The Robbin Thompson Band (3:30 p.m
 . June 12), The Family Stone (8 p.m. June 12) and Chris Cagle (4:30 p.
 m. June 13). Don't forget the Parade of Sail (noon June 11), food and 
 children's activities (face-painting, crafts and games), and fireworks
  (9:30 p.m. June 12). New this year: Disney activities and a water par
 k (slip-and-slide rides and water balloon games).\n\nAdmission Free; m
 etered and garage parking spacesThe traditions of the East Coast's Pre
 mier Waterfront Festival are celebrated with nautical history, maritim
 e events, visiting vessels, children's activities, local, regional and
  national entertainment. Festivities stretch from The Waterside Festiv
 al Marketplace to the Historic Freemason Harbor.\n\nLaunch your summer
  with the area's biggest and oldest dock party!!\n\nNorfolk Harborfest
 ® Rendezvous • Virginia Wine sampling •The Ultimate Build a Boat,
  formerly Quick & Dirty Boat Building• Tug Muster • Children's Act
 ivities and More!\n\nThe Parade of Sail will enter the downtown harbor
  at 12 Noon on Friday, June 11.\n\nNEW for 2010: Dock Dog Competiton, 
 The Elizabeth River Learning Barge, Water Park\n\nNorfolk Harborfest G
 ift Shop\nHarborfest souvenir merchandise is available at all Festival
  Gift Shops. The Harborfest merchandise line offers a variety of piece
 s designed to suit a variety of tastes. From official t-shirts to warm
  fleece for cool evenings, the Harborfest retail line offers visitors 
 a high level of comfort and quality as well as the chance to bring a p
 iece of Harborfest home.\n\nHard Rockfish Café\nOne of the hottest sp
 ots at Norfolk Harborfest, the Hard Rockfish Café will feature live e
 ntertainment with local and regional acoustic favorites as well as del
 icious, fresh seafood and your favorite adult beverage selections. New
  to Hard Rockfish Café is fresh Eastern Shore Oysters and Clams and N
 orth Carolina Shrimp provided by Point Seafood. Meet your friends at t
 he Hard Rockfish Café!\n\nMade In Virginia Wine Tasting\nThe Made In 
 Virginia Wine Tasting will feature wine sampling from Chatham Vineyard
 s , Rebec Winery and Rockbridge Vineyard . Wines will be available by 
 the glass, bottle and case as well.\n\nFestival Foods\nHarborfest prov
 ides a wide selection of tasty food and beverage items! Over 50 food a
 nd beverage options serving fill-your-tummy delicacies like fresh crab
  cakes, mouth watering barbecue, hand breaded shrimp, buttery roasted 
 corn, fresh cut french fries, smoked, savory turkey legs plus all your
  other favorite festival foods. Top off your lunch or dinner with ice 
 cold lemonade and sweet desserts like hand dipped ice cream, fresh and
  hot funnel cakes, cool Italian ices, melt in your mouth Kettle Korn, 
 fresh fruit smoothies and soft serve ice cream with all the toppings. 
 Sit down with family and friends at one of our shaded seating areas an
 d relax while enjoying your favorite festival fare. In addition to tra
 ditional beverage selections like smoothies and lemonade, adult bevera
 ges may be found throughout the festival grounds in various locations.
  With so many fresh and fun things to sample you'll be coming back for
  more!\n\nTown Point Market\nReturning for the second year is the Town
  Point Market at Harborfest. This market, located adjacent to the Hard
  Rockfish Café boost over 30 different vendors all selling one of a k
 ind items. The market will feature items like handmade jewelry, nautic
 al wares, sunglasses, soaps, artwork, furniture, baked goods and much 
 more.\n\nRadio Harborfest® hosted by Paul Shugrue of WHRV will broadc
 ast live throughout the weekend with special programming and updates o
 n all the festival happenings.\n\nFor more information visit https://v
 bnightlife.com/events/34-annual-norfolk-harborfest
DTSTART:20100612T040000Z
DTEND:20100614T035900Z
CATEGORIES:festival, "/", band
LOCATION:Town Point Park
WEBSITE:
URL:
CONTACT:
ORGANIZER;CN="VBnightlife.com":https://vbnightlife.com/profile/admin
ATTACH;FMTTYPE="image/jpeg":http://storage.ning.com/topology/rest/1.0/
 file/get/1664111492?profile=original
ATTENDEE;ROLE=REQ-PARTICIPANT;PARTSTAT=ACCEPTED;RSVP=TRUE;CN="VBnightl
 ife.com":https://vbnightlife.com/profile/admin
END:VEVENT
END:VCALENDAR
