BEGIN:VCALENDAR
PRODID:NingEventWidget-v1
VERSION:2.0
METHOD:PUBLISH
BEGIN:VEVENT
UID:2508951:Event:204194
DTSTAMP:20260422T135113Z
SUMMARY:2nd Annual Families Honoring Fallen Heroes
DESCRIPTION:Less than a week to go until the 2nd Annual Families Honor
 ing Fallen Heroes event at Camp Pendleton Saturday 9/15 at noon!\n$40 
 gets you Live music, Silent Auction, Beverages, & BBQ\nBands include:
 \nBUTTER\nJesse Chong\nCarbon Jam\nJack Becker\nHickory Highway\n \nF
 ood from:\nBeach Bully BBQ\nPollards Chicken\nHot Dogs\nHamburgers\nBe
 er  All Proceeds to Benefit the Navy SEAL Foundation Rain or Shine 21 
 & Over Only\nTickets are limited so stop in and get yours today or pur
 chase them online at www.thenoblemen.org.\n \n\n\nFor more informati
 on visit https://vbnightlife.com/events/2nd-annual-families-honoring-f
 allen-heroes
DTSTART:20120915T160000Z
DTEND:20120915T210000Z
CATEGORIES:fundraiser
LOCATION:Camp Pendleton
WEBSITE:http://thenoblemen.org
URL:http://thenoblemen.org
CONTACT:
ORGANIZER:VBnightlife.com / vbdaylife.com
ATTACH;FMTTYPE="image/jpeg":http://storage.ning.com/topology/rest/1.0/
 file/get/1664180437?profile=original
ATTENDEE;ROLE=REQ-PARTICIPANT;PARTSTAT=ACCEPTED;RSVP=TRUE;CN="VBnightl
 ife.com":https://vbnightlife.com/profile/admin
END:VEVENT
END:VCALENDAR
