BEGIN:VCALENDAR
PRODID:NingEventWidget-v1
VERSION:2.0
METHOD:PUBLISH
BEGIN:VEVENT
UID:2508951:Event:9085
DTSTAMP:20260425T173014Z
SUMMARY:27th ANNUAL CHILD  ABUSE PREVENTION CELEBRITY NIGHT @ IL GIARD
 INO RISTORANTE
DESCRIPTION:Please join us along with celebrity politicians, media per
 sonalities, Olympic Gold medalist, LaShawn Merritt, the “Tributes En
 tertainment starring Elvis & friends” and many others for the:\n\n27
 th ANNUAL CHILD ABUSE PREVENTION CELEBRITY NIGHT\n\nThursday, April 2,
  2009\n\nBetween 6:00 - 10:00 p.m.\n\nIl Giardino Ristorante\n910 Atla
 ntic Avenue\nVirginia Beach, VA 23451\n\nPlease make reservations by c
 alling the restaurant at 422-6464.\n\nIt should be an evening of fun a
 nd all of the celebrity tips and a percentage of the restaurant procee
 ds will go to benefit child abuse prevention here in Hampton Roads.\nT
 his year we will also be raffling a 42” high definition LCD televisi
 on along with plenty of Elvis Presley memorabilia!\n\nWe look forward 
 to seeing you here.\n\nPrevent Child Abuse Hampton Roads\n\nFor more i
 nformation visit https://vbnightlife.com/events/27th-annual-child-abus
 e
DTSTART:20090402T220000Z
DTEND:20090403T020000Z
CATEGORIES:fundraiser, dinner
LOCATION:Il Giardino's
WEBSITE:http://www.ucantbeatkids.org/
URL:http://www.ucantbeatkids.org/
CONTACT:
ORGANIZER:Prevent Child Abuse Hampton Roads
ATTACH;FMTTYPE="image/jpeg":http://storage.ning.com/topology/rest/1.0/
 file/get/1664069833?profile=original
ATTENDEE;ROLE=REQ-PARTICIPANT;PARTSTAT=ACCEPTED;RSVP=TRUE;CN="Nicole M
 axino":https://vbnightlife.com/profile/NicoleMaxino
END:VEVENT
END:VCALENDAR
