BEGIN:VCALENDAR
PRODID:NingEventWidget-v1
VERSION:2.0
METHOD:PUBLISH
BEGIN:VEVENT
UID:2508951:Event:201061
DTSTAMP:20260422T224746Z
SUMMARY:25th Annual Rock and Roll Up Your Sleeve Blood Drive sponsored
  by FM99
DESCRIPTION:\n25th Annual Rock and Roll Up Your Sleeve Blood Drive\nFM
 99 is proud to team up again this summer with the American Red Cross f
 or our 25th Annual Rock and Roll Up Your Sleeve Blood Drive!\nBlood su
 pplies are dangerously low during the summer months, which is why each
  July YOU come out in record numbers and help make this the largest bl
 ood drive in the region!\nThis year is no different, so it's time to d
 rain your vein! This year's times and locations are:\nThursday (7/19),
  7a-7p: Patrick Henry Mall, Newport News\nFriday (7/20), 7a-7p: Pembro
 ke Mall, Virginia Beach\nSaturday (7/21), 7a-7p: Chesapeake Square Mal
 l, Chesapeake\nEveryone who donates will get a free FM99 Rock and Roll
  Up Your Sleeve Blood Drive t-shirt!\nTo donate, you must be at least 
 16 years old (with parental consent), weigh 110 pounds, and be in gene
 rally good health. Click here if you have questions about donating blo
 od.\nSpecial Thanks to our sponsor: Williams DeLoatche, P.C.\n\nFor mo
 re information visit https://vbnightlife.com/events/25th-annual-rock-a
 nd-roll-up-your-sleeve-blood-drive-sponsored-by
DTSTART:20120720T110000Z
DTEND:20120721T230000Z
CATEGORIES:"blood drive"
LOCATION:Hampton Roads
WEBSITE:
URL:
CONTACT:
ORGANIZER:VBnightlife.com / VBdaylife.com / norfolkNightlife.com
ATTACH;FMTTYPE="image/jpeg":http://storage.ning.com/topology/rest/1.0/
 file/get/1664174450?profile=original
ATTENDEE;ROLE=REQ-PARTICIPANT;PARTSTAT=ACCEPTED;RSVP=TRUE;CN="VBnightl
 ife.com":https://vbnightlife.com/profile/admin
END:VEVENT
END:VCALENDAR
