BEGIN:VCALENDAR
PRODID:NingEventWidget-v1
VERSION:2.0
METHOD:PUBLISH
BEGIN:VEVENT
UID:2508951:Event:48335
DTSTAMP:20260421T053801Z
SUMMARY:ALL EVENTS - click here
DESCRIPTION:\nDEC 23RD THURSDAY\nENTERTAINMENT:Bookings can change at 
 the last minute, so check with the club before you head out\n \n37th 
 and Zen - MIRLO AND FELICIA BARTON 8PM\nAbbey Road - MIKE PROFFITT 8:3
 0PMAJ Gators - Fairfield *KARAOKE* w/DJAJ Gators - General Booth *KARA
 OKE* w/DJ\nCentral 111 - BLUSH LADIES NIGHT W/ DJ SILVERCinema Cafe - 
 *COMEDY AT THE CAFE* FREECroc's 19th Street Bistro - DJDiesel - BORDER
 LINE CRAZY 9PMDocker's Restaurant & Karaoke Pub - *KARAOKE* 9PMFat Tue
 sdays - *KARAOKE*Flip Flops Chill & Grill - Red Mill - WARREN SEABURGF
 rankie's Place - *KARAOKE*H20 - \"JESSE CHONG\"Icehouse - Il Giardino'
 s - \"BILL BATTE\" 7:30-11:30PMKeagans Pub & Grill - *KARAOKE* 10PMKea
 gans Irish Restaurant Town Center - STEVE FORSS 10PMLendy’s - *KIDS 
 KARAOKE* 6-8  *ADULTS KARAOKE* 8PMOmega Bar - *NOCHE LATINA* W/ DJ AT
 REVETEParlay's - *DJ BUDDY LEE*Sammy’s - *KARAOKE*Secrets - *KARAOKE
 *Shaka's - *DJ AETGY* 10PM-2AMSouth Beach Grill - X-RAVES & THE HO-HO-
 HO SHOW! DJ TED ROCK 9PM-12AMStarz - *KARAOKE*Wanna B's Karaoke Club &
  Restaurant - *KARAOKE* 7PM\nTHEATRE/PLAYS/CONCERTS/SPORTS:Sandler Cen
 ter - SYMPHONICITY: 28TH ANNUAL MESSIAH SING-ALONG 8PM\n \n\nFor more
  information visit https://vbnightlife.com/events/2508951:Event:48335
DTSTART:20101223T050000Z
DTEND:20101224T045900Z
CATEGORIES:band, "/", dj
LOCATION:VIRGINIA BEACH
WEBSITE:
URL:
CONTACT:
ORGANIZER;CN="VBnightlife.com":https://vbnightlife.com/profile/admin
ATTACH;FMTTYPE="image/jpeg":http://storage.ning.com/topology/rest/1.0/
 file/get/1664122779?profile=original
ATTENDEE;ROLE=REQ-PARTICIPANT;PARTSTAT=ACCEPTED;RSVP=TRUE;CN="VBnightl
 ife.com":https://vbnightlife.com/profile/admin
END:VEVENT
END:VCALENDAR
