BEGIN:VCALENDAR
PRODID:NingEventWidget-v1
VERSION:2.0
METHOD:PUBLISH
BEGIN:VEVENT
UID:2508951:Event:201998
DTSTAMP:20260422T120608Z
SUMMARY:Click here for TUESDAY 9/11/12 VIRGINIA BEACH ENTERTAINMENT LI
 STINGS
DESCRIPTION:LIVE ENTERTAINMENT\nAbbey Road- Open Stage, 9PM\nAdams- Ma
 ckin' Music Tuesdays w/ Suzy B Taylor, 9PM (Every Tuesday)\nBoneshaker
 s- Open Mic (Every Tuesday)\nCabo- College Night w/Z104 (Every Tuesday
 )\nCalypso- Sprout, 6-10PM\nH20- Brandon Bower, 8-11PM\nHavanah Nights
 - Woody Beckner Duo, 8-11PM\nJewish Mother- Supersuckers, 9PM\nKeagans
 - Jack Becker, 10PM\nKnuckleheads- Open Mic w/ Heather & Nathan, 7-11P
 M\nLunasea- Jesse Chong, 10PM\nLa Casa Rana- Open Mic\nLighthouse- Mar
 k Alley & Dawn Johnson\nTayst- Sin Night featuring Dave Derring\n \n
 THEATRES/FUNDRAISERS/CONCERTS/SPORTS\nFarm Bureau- Kelly Clarkson & Th
 e Fray\n \nFAMILY FUN/SPECIAL EVENTS:\n15th Street Raw Bar- Pool Tou
 rnament, 8PM\nDiesel- Weekly Beer Pong Tournament, 8PM\nCinema Cafe- $
 1 Movie Tuesdays\nMurphys- Pub Triva, 7PM\n \nDJ’S/KARAOKE/DANCES:\
 nSecrets- Karaoke w/ El Mike, 9PM-1AM\nWoody McGees- Karaoke, 9PM\nWan
 naB's- KARAOKE 7 PM - 2 AM  Monday - Saturday (21 and Older)\nCLICK H
 ERE FOR HAPPY HOUR DEALS\nCLICK HERE REACH OUR VENUE'S PAGE TO FIND A
 DDRESSES AND PHONE NUMBERS OF PLACES LISTED\nCLICK HERE FOR OUR BAND/D
 J PAGE TO FIND DESCRIPTION OF THE BANDS AND LINKS TO THEIR WEB PAGES\
 n\nFor more information visit https://vbnightlife.com/events/2508951:E
 vent:201998
DTSTART:20120911T040000Z
DTEND:20120912T035900Z
CATEGORIES:"virginia beach entertainment", "virginia beach nightlife",
  "virginia beach bands", r
LOCATION:Virginia Beach
WEBSITE:
URL:
CONTACT:
ORGANIZER:VBnightlife.com (Dionna Campanella)
ATTACH;FMTTYPE="image/jpeg":http://storage.ning.com/topology/rest/1.0/
 file/get/1664174686?profile=original
ATTENDEE;ROLE=REQ-PARTICIPANT;PARTSTAT=ACCEPTED;RSVP=TRUE;CN="VBnightl
 ife.com":https://vbnightlife.com/profile/admin
END:VEVENT
END:VCALENDAR
