BEGIN:VCALENDAR
PRODID:NingEventWidget-v1
VERSION:2.0
METHOD:PUBLISH
BEGIN:VEVENT
UID:2508951:Event:195635
DTSTAMP:20260423T002305Z
SUMMARY:Click here for SATURDAY 6/30/12 VIRGINIA BEACH ENTERTAINMENT L
 ISTING
DESCRIPTION:LIVE ENTERTAINMENT\n7th Street Stage- Bigger Dream, 7-11PM
 \n17th Street Park- This Time Around\n31st Street Park- Bria Kelly & K
 indred Place, 12-4PM, Rich Whiskey, 7-10PM\n11th Street Taphouse- Loc
 als Night w/ HM Johnson, 10PM\n15th Street Raw Bar- Blind Toona, 9PM\
 n21st Street Seafood Company & Raw Bar- Acoustic Street Duo\n31st Stre
 et Stage- Bria Kelly & Kindred Place, 12-4PM, Rich Whiskey, 7-11PM\n50
 1 City Grill- Live Entertainment, 9PM-1AM\nBoneshakers- Ever After, 9
 PM-1AM\nAbbey Road- Mike Hensen\nBaker Street- Live Entertainment\nCin
 ema Cafe- Comedy at the Cafe\nCalypso- The Jukes, 5-9PM, Billy Joe Tri
 o, 9PM-1AM\nChix- Zephyr, Bigger Dream, 11PM-2AM,\nGrumpy's- Blue Lord
 s\nH20- Grant Austin Bad, 9:30PM\nHavanah Nights- Cocktail Piano (Wed.
 -Sat.) w/Justin Kauflin, 5-7PM, Justin Kauflin Trio, 8 &10PM, Late Ni
 ght Show (Every Fri,& Sat.,11:30PM-1AM) w/ Vince Barbour Trio\nH K on 
 the Bay- Plastic Eddie, 8PM\nHot Tuna- Rockstar Parking, 10PM\nIL Giar
 dino- Live Entertainment in the lounge w/ Mr. Billy Batte- 7PM\nKeaga
 ns- The 70's Band, 10PM\nKnuckleheads- DEJA, 9PM\nLighthouse- Ed Kelle
 her, 8:30-11PM\nLucky Oyster- Brent Shepard, 8:30PM\nMurphys- Brian Ha
 lloran\nSide Street Cantina- DJ Aetgy\nSouth Beach Grill- Drama Club\
 nSurf Club Ocean Grille- Mike Proffitt, 6-9PM\nSunset Beach Resort Ho
 tel- Doug Dunn, 2-6PM\nWoody McGees- Red Stapler Band, 9:30PM-12:30AM\
 nWing King- Steppen Stone\nSide Street Cantina- DJ Aetgy, 10PM\n \nTH
 EATRE/FUNDRAISERS/CONCERTS/SPORTS:\nFunny Bone Comedy Club- \nHarbor 
 Park- Norfolk Tides Baseball, 7:15PM\n\nFAMILY FUN/SPECIAL EVENTS:\nVi
 rginia MOCA- Andy Warhol\n\nDJ’S/KARAOKE/DANCES:\nAJ Gators (Fairfie
 ld)- Karaoke\nAJ Gators (Holland Road)- Karaoke W/ Scotty, 9PM\nBrass 
 Bell- Karaoke \nRetro Cafe- Karaoke\nPeabodys- Bash at the Beach w/ D
 J Kendall (Every Saturday)\nSecrets- Karaoke w/ El Mike, 9PM-1AM\n\nFo
 r more information visit https://vbnightlife.com/events/2508951:Event:
 195635
DTSTART:20120630T040000Z
DTEND:20120701T035900Z
CATEGORIES:"virginia beach entertainment", "virginia beach bands", "vi
 rginia beach nightlife"
LOCATION:Virginia Beach
WEBSITE:
URL:
CONTACT:
ORGANIZER:VBnightlife.com (Dionna Campanella)
ATTACH;FMTTYPE="image/jpeg":http://storage.ning.com/topology/rest/1.0/
 file/get/1664168915?profile=original
ATTENDEE;ROLE=REQ-PARTICIPANT;PARTSTAT=ACCEPTED;RSVP=TRUE;CN="VBnightl
 ife.com":https://vbnightlife.com/profile/admin
END:VEVENT
END:VCALENDAR
