BEGIN:VCALENDAR
PRODID:NingEventWidget-v1
VERSION:2.0
METHOD:PUBLISH
BEGIN:VEVENT
UID:2508951:Event:195592
DTSTAMP:20260423T102705Z
SUMMARY:Click here for WEDNESDAY 6/13/12 VIRGINIA BEACH ENTERTAINMENT 
 LISTINGS
DESCRIPTION:LIVE ENTERTAINMENT\n24th Street Park, Gridlock 64, 8PM\nAb
 bey Road- Tim Beasley\nBoneshakers- Natures Child (Every Wednesday)\nB
 ayside Bar & Grill- College/Ladies Night w Z104 (Every Wednesday)\nCal
 ypso- Jesse Chong\nElement Lounge- Wine Down Wednesdays w/DJ Problem &
  DJ Havoc\nHot Tuna- DJ Oh Boy and DJ Ategy\nHavanah Nights- Cocktail 
 Piano (Wed.-Sat.) w/Justin Kauflin,5-7PM, Woody Beckner Duo,  8-11PM\
 nKnuckleheads- Ladies Night (Every Wednesday) \nKeagans- Borderline C
 razy, 10PM\nLunasea- Live Entertainment\nLighhouse- Ed Kelleher\nMurph
 y's- Don Bunch\nSandler Center Plaza- Y not Wednesdays (Every Wednesda
 y), Lewis McGehee, 5-9PM\nSide Street Cantina- Live Wednesdays w/ The 
 Office,9PM-1:30AM\nSeaside Raw Bar - Eazy D (Every Wednesday)\nSouth B
 each Grill- Vinyl Headlights\nTayst- Sushi Night (Every Wednesday)\nWi
 ng King- Open Mic w/ Dana & Sergio\n\nFAMILY FUN/SPECIAL EVENTS:\nNorv
 a- The Cult\nAdmirals victory celebration and St.Baldricks beard shavi
 ng\nCarnival at Mt. Trashmore\nVirginia MOCA- Andy Warhol\n\nDJ’S/KA
 RAOKE/DANCES:\nAJ Gators- Karaoke w/ Scotty, 9PM\nBrass Bell- Karaoke\
 nRetro Cafe- Karaoke\nCabo- DJ Bryan One & Tias\nGeared Up- Karaoke & 
 Rockband III\nPoppa’s Pub - *KARAOKE* 9:30PM\nSammy's- Karaoke & Liv
 e DJ\nStarz- Karaoke\nSecrets- Karaoke w/ El Mike, 9PM-1AM\nWoodys- Be
 er Pong Tournament ($150 Cash Prize), 10PM\nWannaBs- Karaoke, 7PM-2AM 
 (Monday-Saturday, 21+)\nWing King- Open Mic w/ Dahna & Sergio, 10PM\nC
 LICK HERE FOR HAPPY HOUR DEALS\nCLICK HERE REACH OUR VENUE'S PAGE\nCLI
 CK HERE FOR OUR BAND/DJ PAGE\n\nFor more information visit https://vbn
 ightlife.com/events/2508951:Event:195592
DTSTART:20120613T040000Z
DTEND:20120614T035900Z
CATEGORIES:"virginia beach entertainment", "virginia beach bands", "vi
 rginia beach nightlife"
LOCATION:Virginia Beach
WEBSITE:
URL:
CONTACT:
ORGANIZER:VBnightlife.com (Dionna Campanella)
ATTACH;FMTTYPE="image/jpeg":http://storage.ning.com/topology/rest/1.0/
 file/get/1664169833?profile=original
ATTENDEE;ROLE=REQ-PARTICIPANT;PARTSTAT=ACCEPTED;RSVP=TRUE;CN="VBnightl
 ife.com":https://vbnightlife.com/profile/admin
END:VEVENT
END:VCALENDAR
