BEGIN:VCALENDAR
PRODID:NingEventWidget-v1
VERSION:2.0
METHOD:PUBLISH
BEGIN:VEVENT
UID:2508951:Event:186099
DTSTAMP:20260423T145427Z
SUMMARY:Click here for MONDAY 1/16/12 VIRGINIA BEACH ENTERTAINMENT LIS
 TINGS
DESCRIPTION:ENTERTAINMENT\nBaker Street- TEXAS HOLD'EM-7PM\nCalypso- F
 ootball Specials w/ Sunday Ticket, 12PM\nGeared Up- TEXAS HOLD'EM POKE
 R TOURNAMENT-7-11PM\nHavanah Nights- Woody Beckner Duo, 8-11PM\nMurphy
 s- Jesse Chong, 10PM\nShakas- Power Hour, 8-9PM\n\nDJ’S/KARAOKE/DANC
 ES:\nRetro Cafe- Karaoke\nChicho’s 29th - *KARAOKE\nPoppa’s Pub - 
 *KARAOKE* 9:30PM\nPortside Inn- Open Mic w/ West & Daniels\nJewish Mot
 her- MOMS KARAOKE 8pm\nWannaB's- KARAOKE 7 PM - 2 AM  Monday - Saturd
 ay (21 and Older)\n\nFAMILY FUN/SPECIAL EVENTS\nVirginia Beach Restaur
 ant Week\n Little Theatre of Virginia Beach- Getting Away with Murder
  (through February 5th)\n\nHAPPY HOUR:\n11th Street Taphouse – bogo 
 half-a-tizers 4-9pm\n15th Street Raw Bar – clams .50 oysters .75 3-7
 pm, ny strip + 2 sides = $13.99\nCLICK HERE FOR HAPPY HOUR DEALS\n\nCL
 ICK HERE REACH OUR VENUE'S PAGE TO FIND ADDRESSES AND PHONE NUMBERS OF
  PLACES LISTED\nCLICK HERE FOR OUR BAND/DJ PAGE TO FIND DESCRIPTION OF
  THE BANDS AND LINKS TO THEIR WEB PAGES\nBookings can change at the la
 st minute, so we recommend checking with the venue before heading out!
 \n\nFor more information visit https://vbnightlife.com/events/2508951:
 Event:186099
DTSTART:20120116T050000Z
DTEND:20120117T045900Z
CATEGORIES:"virginia beach bands", "virginia beach entertainment", "vi
 rginia beach nightlife"
LOCATION:Virginia Beach
WEBSITE:
URL:
CONTACT:
ORGANIZER;CN="VBnightlife.com":https://vbnightlife.com/profile/admin
ATTACH;FMTTYPE="image/jpeg":http://storage.ning.com/topology/rest/1.0/
 file/get/1664157370?profile=original
ATTENDEE;ROLE=REQ-PARTICIPANT;PARTSTAT=ACCEPTED;RSVP=TRUE;CN="VBnightl
 ife.com":https://vbnightlife.com/profile/admin
END:VEVENT
END:VCALENDAR
