BEGIN:VCALENDAR
PRODID:NingEventWidget-v1
VERSION:2.0
METHOD:PUBLISH
BEGIN:VEVENT
UID:2508951:Event:282030
DTSTAMP:20260424T010838Z
SUMMARY:25% off Food And DRINK + Your Chance to Experience the Band Ev
 eryone's Talking About - the RnR Band - Local's Night at Cactus Jack
DESCRIPTION:   \nJoin us this Wednesday for the return of the RnR Ba
 nd 6pm-9pm at Cactus Jack's. The RnR band brings down the house every 
 time they play our event. YOU DON'T WANT TO MISS THIS PERFORMANCE!  \
 n\nPhotos of the RnR Band from Nancy Balogh here:  http://vbnightlife
 .com/photo/albums/rn-r-cactus-jacks-locals-night-by-nancy-balogh\n \n
 Let's Eat, Drink, & Enjoy a fabulous band!   Cactus Jacks and VBnight
 life host a Local's Night every Wednesday thru April 23rd with live mu
 sic from 6 to 9. Join us for dinner or drinks at the bar and enjoy 25%
  off your entire bill and live music from The RnR Band!\n \nCactus Ja
 cks\n \n2736 Atlantic Avenue\n \nVirginia Beach, VA 23451\n \n(757)
  802-9898\n \nFree Parking behind the building \n \n\"Wednesdays Lo
 cals Night\"\n  ◙ Live music in the Cactus Lounge starting at 6pm!\
 n  ◙ Show your Virginia Beach or Military I.D. and receive 25% enti
 re guest check all day until 9pm\n  ◙ Take the kids to dinner!\n  
 ◙ Meet a friend for a drink after work!\n  ◙ Hump Day Fun for eve
 ryone!\n \nJoin us for dinner or drinks at the bar and enjoy 25% off 
 your entire bill and live music featuring the RnR Band!\n \n\n \n\nF
 or more information visit https://vbnightlife.com/events/25-off-food-a
 nd-drink-your-chance-to-experience-the-band-everyo-1
DTSTART:20140409T220000Z
DTEND:20140410T010000Z
CATEGORIES:"art and jewelry show", networking, "rnr band"
LOCATION:Cactus Jack's Southwest Grill
WEBSITE:
URL:
CONTACT:757 652 0808
ORGANIZER;CN="VBnightlife.com":https://vbnightlife.com/profile/admin
ATTACH;FMTTYPE="image/jpeg":http://storage.ning.com/topology/rest/1.0/
 file/get/1664222251?profile=original
ATTENDEE;ROLE=REQ-PARTICIPANT;PARTSTAT=ACCEPTED;RSVP=TRUE;CN="VBnightl
 ife.com":https://vbnightlife.com/profile/admin
END:VEVENT
END:VCALENDAR
