BEGIN:VCALENDAR
PRODID:NingEventWidget-v1
VERSION:2.0
METHOD:PUBLISH
BEGIN:VEVENT
UID:2508951:Event:305303
DTSTAMP:20260422T162654Z
SUMMARY:24TH ANNUAL WINE BY DESIGN AT VIRGINIA MOCA
DESCRIPTION:Friday, February 27, 2015 \n7-10PM\nClick here to see det
 ails and the list of participating Restaurants:\nhttp://virginiamoca.o
 rg/wine-design-havana-nights\n\nWarm up your winter with a HOT Havana 
 night and raise money for the arts at MOCA! Join us for Cuban-inspired
  gourmet fare from some of the best regional chefs, award-winning wine
 s, a diverse silent auction, and dance the night away to Rumba rhythm
 s! Go VIP for all access privileges. \nAll proceeds benefit MOCA's e
 xhibitions and educational programs. This event will include valet p
 arking. \nLike the Wine by Design Facebook Page to stay up-to-date 
 on the latest news and special offers!\nAdvance Tickets: \n\nGeneral 
 Admission (4 drink tickets): $55 advance (was $65) / $75 at door\nVIP
  (All-Access): $85 (was $95)\n\nPURCHASE TICKETS ONLINE NOW\nAdvance t
 icket sales will end Thursday, Feb 26th at 5pm. Ticket sales at door w
 ill be $75. \n\n\n\nFor more information visit https://vbnightlife.co
 m/events/24th-annual-wine-by-design-at-virginia-moca
DTSTART:20150228T000000Z
DTEND:20150228T030000Z
CATEGORIES:fundraiser, "virginia moca", "wine by design"
LOCATION:VIRGINIA MUSEUM OF CONTEMPORARY ART
WEBSITE:
URL:
CONTACT:
ORGANIZER:VBnightlife.com / Virginia MOCA
ATTACH;FMTTYPE="image/jpeg":http://storage.ning.com/topology/rest/1.0/
 file/get/1664264993?profile=original
ATTENDEE;ROLE=REQ-PARTICIPANT;PARTSTAT=ACCEPTED;RSVP=TRUE;CN="Carolyn 
 Robinson":https://vbnightlife.com/profile/CarolynRobinson
ATTENDEE;ROLE=REQ-PARTICIPANT;PARTSTAT=ACCEPTED;RSVP=TRUE;CN="VBnightl
 ife.com":https://vbnightlife.com/profile/admin
END:VEVENT
END:VCALENDAR
