BEGIN:VCALENDAR
PRODID:NingEventWidget-v1
VERSION:2.0
METHOD:PUBLISH
BEGIN:VEVENT
UID:2508951:Event:314307
DTSTAMP:20260422T073712Z
SUMMARY:2015 Chesapeake Virginia Wine Festival
DESCRIPTION:Join Us for the 6th Annual Chesapeake Virginia Wine Festiv
 al, presented by Priority Automotive\n\nOctober 10, 2015 noon to 6pm a
 t Chesapeake City Park.\n\nEnjoy Unlimited tastings from over 20 premi
 er Virginia Wineries\nLive Entertainment with Lewis & Kayce McGehee, Â
  Anthony Rosano and new artist James Wright.Â \nAward Wining Art, Wine
  Apparel, Wine Accessories and Specialty Food Vendors from the Mid-Atl
 antic and Coastal Virginia Region.\n\nÂ www.cheswine.com\n\n\nAmRein W
 ine Cellars\nAthena Vineyards & Winery\nBarboursville\nBelle Mount Vin
 eyards\nByrd Cellars\nChateau Morresette\nDelfosse\nDemocracy\nFirst C
 olony\nGeneral's Ridge\nHorton Vineyards\nLake Anna Winery\nMattaponi 
 Winery\nMermaid Winery\nOak Crest Vineyard\nPeaks of Otter Winery\nRos
 emont\nSaude Creek Vineyards\nWilliamsburg Winery\nWest Wind Farm\n\n\
 nEvent sponsorships are available, please contact chesapeakevawinefest
 ival@gmail.com for sponsorship opportunities.\n\nTo Benefit Community 
 Charities of The Chesapeake Rotary Club.\n\nEVENT HELD RAIN OR SHINE -
  NO REFUNDS\n\nÂ \n\nFor more information visit https://vbnightlife.co
 m/events/2015-chesapeake-virginia-wine-festival
DTSTART:20151010T160000Z
DTEND:20151010T220000Z
CATEGORIES:fundraiser, "things to do in coastal virginia", "chesapeake
  wine festival", "chesapeake rotary"
LOCATION:Chesapeake City Park
WEBSITE:
URL:
CONTACT:
ORGANIZER:VBnightlife.com / VBdaylife.com / VBhotdeals.com / Chesapeak
 e Rotary
ATTACH;FMTTYPE="image/jpeg":http://storage.ning.com/topology/rest/1.0/
 file/get/1664285721?profile=original
ATTENDEE;ROLE=REQ-PARTICIPANT;PARTSTAT=ACCEPTED;RSVP=TRUE;CN="Rolan St
 ears":https://vbnightlife.com/profile/RolanStears
ATTENDEE;ROLE=REQ-PARTICIPANT;PARTSTAT=ACCEPTED;RSVP=TRUE;CN="VBnightl
 ife.com":https://vbnightlife.com/profile/admin
END:VEVENT
END:VCALENDAR
