BEGIN:VCALENDAR
PRODID:NingEventWidget-v1
VERSION:2.0
METHOD:PUBLISH
BEGIN:VEVENT
UID:2508951:Event:253069
DTSTAMP:20260421T174956Z
SUMMARY:2013 Miss Coastal Edge ECSC Preliminary Round 5 at Rudees
DESCRIPTION:\n\n\n\nFor more information visit https://vbnightlife.com
 /events/2013-miss-coastal-edge-ecsc-preliminary-round-5-at-rudees
DTSTART:20130818T190000Z
DTEND:20130818T220000Z
CATEGORIES:ecsc, prelim, fm99, vbnightlife, vbdaylife
LOCATION:Rudee Inlet Loop
WEBSITE:
URL:
CONTACT:
ORGANIZER;CN="VBnightlife.com":https://vbnightlife.com/profile/admin
ATTACH;FMTTYPE="image/jpeg":http://storage.ning.com/topology/rest/1.0/
 file/get/1664200521?profile=original
ATTENDEE;ROLE=REQ-PARTICIPANT;PARTSTAT=ACCEPTED;RSVP=TRUE;CN="VBnightl
 ife.com":https://vbnightlife.com/profile/admin
END:VEVENT
END:VCALENDAR
