BEGIN:VCALENDAR
PRODID:NingEventWidget-v1
VERSION:2.0
METHOD:PUBLISH
BEGIN:VEVENT
UID:2508951:Event:201270
DTSTAMP:20260423T090556Z
SUMMARY:2012 TWP Celebrity Benefit Game
DESCRIPTION:On Saturday August 11, 2012, Teens With a Purpose will hos
 t the TWP Celebrity Benefit Game.  An action-packed event that brings
  families and the community together for an afternoon of fun and eduta
 inment including great prizes, local and national celebrities, an exci
 ting basketball game, marching bands, and so much more. This fundraisi
 ng event will help Teens With a Purpose continue to provide year-round
  teen leadership development programs and youth events that are free-o
 f-charge, to all teens.\n\n\nFor more information visit https://vbnigh
 tlife.com/events/2012-twp-celebrity-benefit-game
DTSTART:20120811T040000Z
DTEND:20120812T035900Z
CATEGORIES:"norfolk events", "teens with purpose"
LOCATION:Booker T. Washington H.S.
WEBSITE:http://www.teenswithapurpose.org/
URL:http://www.teenswithapurpose.org/
CONTACT:
ORGANIZER;CN="VBnightlife.com":https://vbnightlife.com/profile/admin
ATTACH;FMTTYPE="image/jpeg":http://storage.ning.com/topology/rest/1.0/
 file/get/1664177828?profile=original
ATTENDEE;ROLE=REQ-PARTICIPANT;PARTSTAT=ACCEPTED;RSVP=TRUE;CN="VBnightl
 ife.com":https://vbnightlife.com/profile/admin
END:VEVENT
END:VCALENDAR
