BEGIN:VCALENDAR
PRODID:NingEventWidget-v1
VERSION:2.0
METHOD:PUBLISH
BEGIN:VEVENT
UID:2508951:Event:186758
DTSTAMP:20260421T065057Z
SUMMARY:2012 Polar Plunge
DESCRIPTION:CARPE FREEZUM at the coolest event of the year!\n\nParade 
 at noon\nCostume contest at 1:15 under 7th Street Stage\nPlunge at 2:3
 0  The Polar Plunge® Winter Festival is Special Olympics Virginia’s
  largest fundraiser, attracting more than 10,000 people to an otherwis
 e deserted beachfront in February. Individuals and teams, alongside ou
 r athletes and thousands of community members, experience heartwarming
  and bone chilling extremes as they take the plunge into the icy Atlan
 tic Ocean in the height of winter! Anyone can participate; those under
  18 must have a parent or guardian signature.   Other crowd favorites 
 include the Boogie Down the Boardwalk Costume Parade and contest, musi
 cal entertainment, a gigantic sand sculpture, a Friday Night Plunge Pa
 rty WITH BUTTER, Pee Wee Plunge (for kids 10 and under), a Saturday mo
 rning 5K, a POLAR PLUNGE PARTY WITH THE DELOREANS, as well as vendor d
 isplays and giveaways.   Don't just seize any freeze this winter...Car
 pe Freezum at the Polar Plunge!\n\nFor more information visit https://
 vbnightlife.com/events/2012-polar-plunge
DTSTART:20120204T050000Z
DTEND:20120205T045900Z
CATEGORIES:"virginia beach events", "virginia beach fundrasiers", "spe
 cial olympics", "polar plunge"
LOCATION:Virginia Beach Oceanfront
WEBSITE:http://www.polarplunge.com/
URL:http://www.polarplunge.com/
CONTACT:
ORGANIZER;CN="VBnightlife.com":https://vbnightlife.com/profile/admin
ATTACH;FMTTYPE="image/jpeg":http://storage.ning.com/topology/rest/1.0/
 file/get/1664162188?profile=original
ATTENDEE;ROLE=REQ-PARTICIPANT;PARTSTAT=ACCEPTED;RSVP=TRUE;CN="VBnightl
 ife.com":https://vbnightlife.com/profile/admin
END:VEVENT
END:VCALENDAR
