BEGIN:VCALENDAR
PRODID:NingEventWidget-v1
VERSION:2.0
METHOD:PUBLISH
BEGIN:VEVENT
UID:2508951:Event:50409
DTSTAMP:20260420T072759Z
SUMMARY:2010 STOCKLEY GARDENS FALL ARTS FESTIVAL
DESCRIPTION:There’s an art to creating community. It takes art. Musi
 c. Food. Laughter. A willingness to work together. Most of all, it tak
 es vision.\n\nFor more than 25 years, Hope House has been the vision b
 ehind the Stockley Gardens Arts Festival. And now, the free twice-year
 ly event is a community tradition. Each year, on the third weekend in 
 May and October, more than 25,000 people flock to Stockley Gardens in 
 Norfolk’s historic Ghent neighborhood to browse through jewelry, pot
 tery, paintings, and other works of art. The park is full of strollers
  and dogs and tantalizing smells. Music wafts from the stage. Friends 
 stop to chat. And throughout the weekend, there is a feeling of hope. 
 Together, the two festivals draw more than 50,000 visitors a year.\n\n
 The money raised during these events helps us assist with housing, tra
 nsportation, medical needs, and various other necessities for people w
 ith developmental disabilities in Hampton Roads. But the events themse
 lves benefit the entire community, by providing an opportunity to enjo
 y art, music, food, and friendship in a beautiful outdoor setting.\n\n
 All day Saturday and Sunday, approximately 150 artists exhibit a wide 
 variety of media, including painting, sculpture, ceramics, jewelry, ph
 otography, and many others. In addition, there are children’s activi
 ties, live musical entertainment at the main stage, and food vendors f
 rom across the region. Each year, a nationally recognized artist or cu
 rator judges the artists, who compete for the festival’s cash prizes
 . College and high school students exhibit their artwork at the Studen
 t Exhibit and compete for prizes. (College students exhibit during the
  fall show; high school students, in spring.) The award winners are an
 nounced during the Artists’ Reception, which is held Saturday evenin
 g.\n\nWe’re proud to give the community one of the best outdoor arts
  festivals in the area. In fact, the Stockley Gardens Arts Festival ha
 s been featured in Richmond-based 64 Magazine as \"One of the 64 reaso
 ns we love Virginia!\" So don’t miss the upcoming Stockley Gardens A
 rts Festival. It’s a good time, for a good cause.\n\nKids’ Activit
 ies, Music Schedule, & Artists’ Reception\n\nKids’ Activities\nAll
  activities listed below will take place at the Children’s Stage. Th
 e Children’s Stage is located in the middle of the park (B Block), n
 ear the center circle.\n\nSaturday, October 16, 2010\n10:00-2:00 p.m.\
 nAbrakadoodle/Hands on Art for Kids\n\n2:00 p.m.\nBobby the Clown/Magi
 c Show and Balloon Animals\n\n3:00 p.m.\nMarquita Lyons/ Dance Perform
 ance\n\n4:00 p.m.\nSTAHR Suzuki Violin Group (Academy of Music)/String
 s\n\nSunday, October 17, 2010\nNoon-4:00 p.m.\nSara Clapper/Hands on A
 rt for Kids\n\n2:00- 3:00 p.m.\nBobby the Clown/Magic Show and Balloon
  Animals\n\n4:00 p.m.\nC Shells/Music for Kids\n\nMusic Schedule\nAll 
 musical acts listed below will take place at the Main Stage, located a
 t the top of the park (A Block) near Olney Road.\n\nSaturday, October 
 16, 2010\n10:00 a.m.\nLori Shapiro/Acoustic\n\n11:00 a.m.\nBilly Willi
 ams/Jazz\n\n12:30 p.m.\nHM Johnson Band/Blues/Rock\n\n2:00 p.m.\nAmper
 sand/ Alternative/Rock\n\n3:30 p.m.\nCorporate Woods Drive/Acoustic/Ro
 ck\n\n5:00 p.m.\nThe Loud Shapes/Alternative/Rock\n\nSunday, October 1
 7, 2010\n12:00 p.m.\nNarissa Bond/ Folk\n\n1:30 p.m.\nJim Newsom Quart
 et/Jazz\n\n2:45 p.m.\nSkip Friel Band\n\n4:00 p.m.\nFat Tony Band/ Blu
 es, Swing, & Everything\n\nFor more information, contact Elena Montell
 o Berry.\n\nIn addition to live music provided by talented musicians, 
 food vendors remain open for the reception, and beer, wine, and non-al
 coholic beverages are available. This rockin’ outdoor party provides
  a great chance to have fun and mingle with both patrons and artists.\
 n\nFor more information visit https://vbnightlife.com/events/2010-stoc
 kley-gardens-fall
DTSTART:20101016T140000Z
DTEND:20101017T210000Z
CATEGORIES:fundraiser, art
LOCATION:STOCKLEY GARDENS PARK
WEBSITE:http://www.hope-house.org/
URL:http://www.hope-house.org/
CONTACT:
ORGANIZER;CN="VBnightlife.com":https://vbnightlife.com/profile/admin
ATTACH;FMTTYPE="image/jpeg":http://storage.ning.com/topology/rest/1.0/
 file/get/1664120781?profile=original
ATTENDEE;ROLE=REQ-PARTICIPANT;PARTSTAT=ACCEPTED;RSVP=TRUE;CN="VBnightl
 ife.com":https://vbnightlife.com/profile/admin
END:VEVENT
END:VCALENDAR
