BEGIN:VCALENDAR
PRODID:NingEventWidget-v1
VERSION:2.0
METHOD:PUBLISH
BEGIN:VEVENT
UID:2508951:Event:22006
DTSTAMP:20260425T171130Z
SUMMARY:2 for Tuesday @ Wild Wing in Greenbrier....
DESCRIPTION:2 wings for the price of 1.. It's always a blast for a Tue
 sday :)\n\nFor more information visit https://vbnightlife.com/events/2
 -for-tuesday-wild-wing-in
DTSTART:20090915T220000Z
DTEND:20090916T030000Z
CATEGORIES:cheap, food, cold, beer, "&", good, "friends.."
LOCATION:Wild Wing next to Sam's Club in Greenbrier...
WEBSITE:
URL:
CONTACT:
ORGANIZER;CN="Chris Moseley":https://vbnightlife.com/profile/ChrisMose
 ley
ATTACH;FMTTYPE="image/jpeg":
ATTENDEE;ROLE=REQ-PARTICIPANT;PARTSTAT=ACCEPTED;RSVP=TRUE;CN="Chris Mo
 seley":https://vbnightlife.com/profile/ChrisMoseley
END:VEVENT
END:VCALENDAR
