BEGIN:VCALENDAR
PRODID:NingEventWidget-v1
VERSION:2.0
METHOD:PUBLISH
BEGIN:VEVENT
UID:2508951:Event:50325
DTSTAMP:20260420T060858Z
SUMMARY:1st Annual Waterman's FALL FEST!!
DESCRIPTION:We couldn't wait a whole year til Crush Fest, so we decide
 d we'd just have to throw another blow out party! Join us on October 1
 7th for the best Sunday Funday party in town! Live music by the Delore
 ans, dance party with DJ Andy Kim, and a huge Pig Roast! Donations wil
 l be accepted for a plate of BBQ and donated to CHKD.\n\nIf you were h
 ere for Crush Fest, you know you don't want to miss out! The whole fro
 nt parking lot will be tented again, and we'll be Crushin like crazy, 
 inside & out. Make sure to bring cash for the outside Crush Stations t
 o beat the lines at the bars. Hop on your bikes & head to Waterman's f
 or Fall's biggest party!!\n\nFor more information visit https://vbnigh
 tlife.com/events/1st-annual-watermans-fall-fest
DTSTART:20101017T170000Z
DTEND:20101018T020000Z
CATEGORIES:live, band, "&", dj
LOCATION:Waterman's Surfside Grille
WEBSITE:http://www.watermans.com/
URL:http://www.watermans.com/
CONTACT:757-428-3644
ORGANIZER:
ATTACH;FMTTYPE="image/jpeg":http://storage.ning.com/topology/rest/1.0/
 file/get/1664120805?profile=original
ATTENDEE;ROLE=REQ-PARTICIPANT;PARTSTAT=ACCEPTED;RSVP=TRUE;CN=Andy:http
 s://vbnightlife.com/profile/Andy61
END:VEVENT
END:VCALENDAR
